BEGIN:VCALENDAR
VERSION:2.0
PRODID:-//wp-events-plugin.com//6.6.4.4//EN
TZID:America/Mexico_City
X-WR-TIMEZONE:America/Mexico_City
BEGIN:VEVENT
UID:346@expoguadalajara.mx
DTSTART;TZID=America/Mexico_City;VALUE=DATE:20260731
DTEND;TZID=America/Mexico_City;VALUE=DATE:20260803
DTSTAMP:20251230T163822Z
URL:https://expoguadalajara.mx/events/10-convencion-nacional-de-los-grupos
 -de-familia-al-anon-y-alateen/
SUMMARY:10° Convención Nacional de los Grupos de Familia Al-Anon y Alatee
 n
DESCRIPTION:\n\n\n\n10° Convención Nacional de los Grupos de Familia Al-A
 non y Alateen\n\nPronto más información.\nDetalles\n\n\n\n\nHorario\n\n\
 n\n\n\n\nHorario pendiente.\n\n\n\n\n\n\n\n\n\n\n\n\n\n\n\n\n\n\n\n\n\n\n\
 n\n\n\n\n\n
ATTACH;FMTTYPE=image/jpeg:https://expoguadalajara.mx/wp-content/uploads/20
 25/02/evento-1.svg
CATEGORIES:Congresos
LOCATION:Salón México\, Av. Mariano Otero 1499\, Verde Valle\, 44550\, Gu
 adalajara\, Jalisco\, México\, México
X-APPLE-STRUCTURED-LOCATION;VALUE=URI;X-ADDRESS=Av. Mariano Otero 1499\, Ve
 rde Valle\, 44550\, Guadalajara\, Jalisco\, México\, México;X-APPLE-RADI
 US=100;X-TITLE=Salón México:geo:0,0
END:VEVENT
BEGIN:VTIMEZONE
TZID:America/Mexico_City
X-LIC-LOCATION:America/Mexico_City
BEGIN:STANDARD
DTSTART:20250731T000000
TZOFFSETFROM:-0600
TZOFFSETTO:-0600
TZNAME:CST
END:STANDARD
END:VTIMEZONE
END:VCALENDAR