BEGIN:VCALENDAR
VERSION:2.0
PRODID:-//wp-events-plugin.com//6.6.4.4//EN
TZID:America/Mexico_City
X-WR-TIMEZONE:America/Mexico_City
BEGIN:VEVENT
UID:40@expoguadalajara.mx
DTSTART;TZID=America/Mexico_City:20250704T083000
DTEND;TZID=America/Mexico_City:20250704T160000
DTSTAMP:20250630T231755Z
URL:https://expoguadalajara.mx/events/13-seminario-de-las-pequenas-especie
 s/
SUMMARY:13° Seminario de las Pequeñas Especies
DESCRIPTION:\n\n\n\n\n\n\n\n\n\n\n\n\n\n13° Seminario de las Pequeñas Esp
 ecies\n\n\nEl Seminario de las pequeñas especies\; es un evento académic
 o con enfoque en la medicina veterinaria y énfasis principalmente en el 
 área de las mascotas\, año con año y de la mano de la distribuidora Inv
 ett\, sus socios comerciales\, como son: Laboratorios\, casas comerciales 
 de alimentos y teniendo como insignia la marca de la casa en accesorios Ti
 bet junto con COMVEPEJ (Colegio de Médicos Veterinarios Especialistas en 
 Pequeñas Especies en el Estado de Jalisco A.C.)\, reúnen a un aproximado
  de 700 MVZ con enfoque en esta área de especialización.\n\n\n\n\n\n\nPa
 gina web:\nRegistro:\n\n\n\n\n\nPequeñasEspecies.com\nLink\n\n\n\n\n\n\n\
 n\n\n\n\n\n\n\n\n\n\n
ATTACH;FMTTYPE=image/jpeg:https://expoguadalajara.mx/wp-content/uploads/20
 25/03/Imagen-principal.jpeg
CATEGORIES:Congresos
LOCATION:Salón de Eventos\, Av. Mariano Otero #1499 Col. Verde Valle\, Gua
 dalajara\, Jalisco\, México\, México
X-APPLE-STRUCTURED-LOCATION;VALUE=URI;X-ADDRESS=Av. Mariano Otero #1499 Col
 . Verde Valle\, Guadalajara\, Jalisco\, México\, México;X-APPLE-RADIUS=1
 00;X-TITLE=Salón de Eventos:geo:0,0
END:VEVENT
BEGIN:VTIMEZONE
TZID:America/Mexico_City
X-LIC-LOCATION:America/Mexico_City
BEGIN:STANDARD
DTSTART:20240704T083000
TZOFFSETFROM:-0600
TZOFFSETTO:-0600
TZNAME:CST
END:STANDARD
END:VTIMEZONE
END:VCALENDAR