BEGIN:VCALENDAR
VERSION:2.0
PRODID:-//wp-events-plugin.com//6.6.4.4//EN
TZID:America/Mexico_City
X-WR-TIMEZONE:America/Mexico_City
BEGIN:VEVENT
UID:356@expoguadalajara.mx
DTSTART;TZID=America/Mexico_City;VALUE=DATE:20260708
DTEND;TZID=America/Mexico_City;VALUE=DATE:20260710
DTSTAMP:20260223T221740Z
URL:https://expoguadalajara.mx/events/14-congreso-internacional-de-nutrici
 on-y-fisiologia-vegetal-aplicadas/
SUMMARY:14° Congreso Internacional de Nutrición y Fisiología Vegetal Apl
 icadas
DESCRIPTION:14° Congreso Internacional de Nutrición y Fisiología Vegetal
  Aplicadas\n\nEvento cumbre donde convergen Expertos Mundiales para compar
 tir lo más novedoso en Nutrición y Fisiología Vegetal Aplicadas.\n\nDet
 alles\n\n\n\nHorario\nPágina Web\nNúmero de contacto\n\n\nHorario pendie
 nte\nconfiva.intagri.com\n+52 (461) 616-2084\n\n\nEmail\nRedes Sociales\n\
 n\n\nintagri@intagri.com.mx\n| FB | IG |\n\n\n\n\n&nbsp\;
ATTACH;FMTTYPE=image/jpeg:https://expoguadalajara.mx/wp-content/uploads/20
 25/12/Banner-370x250-px.jpg
CATEGORIES:Congresos
LOCATION:Salón Guadalajara\, Av. Mariano Otero 1499\, Verde Valle\, 44550\
 , Guadalajara\, México
X-APPLE-STRUCTURED-LOCATION;VALUE=URI;X-ADDRESS=Av. Mariano Otero 1499\, Ve
 rde Valle\, 44550\, Guadalajara\, México;X-APPLE-RADIUS=100;X-TITLE=Saló
 n Guadalajara:geo:0,0
END:VEVENT
BEGIN:VTIMEZONE
TZID:America/Mexico_City
X-LIC-LOCATION:America/Mexico_City
BEGIN:STANDARD
DTSTART:20250708T000000
TZOFFSETFROM:-0600
TZOFFSETTO:-0600
TZNAME:CST
END:STANDARD
END:VTIMEZONE
END:VCALENDAR