BEGIN:VCALENDAR
VERSION:2.0
PRODID:-//wp-events-plugin.com//6.6.4.4//EN
TZID:America/Mexico_City
X-WR-TIMEZONE:America/Mexico_City
BEGIN:VEVENT
UID:354@expoguadalajara.mx
DTSTART;TZID=America/Mexico_City;VALUE=DATE:20260710
DTEND;TZID=America/Mexico_City;VALUE=DATE:20260711
DTSTAMP:20251224T000735Z
URL:https://expoguadalajara.mx/events/14-seminario-de-las-pequenas-especie
 s/
SUMMARY:14° Seminario de las Pequeñas Especies
DESCRIPTION:14° Seminario de las Pequeñas Especies
ATTACH;FMTTYPE=image/jpeg:https://expoguadalajara.mx/wp-content/uploads/20
 25/02/evento-1.svg
CATEGORIES:Congresos
LOCATION:Salón de Eventos\, Av. Mariano Otero #1499 Col. Verde Valle\, Gua
 dalajara\, Jalisco\, México\, México
X-APPLE-STRUCTURED-LOCATION;VALUE=URI;X-ADDRESS=Av. Mariano Otero #1499 Col
 . Verde Valle\, Guadalajara\, Jalisco\, México\, México;X-APPLE-RADIUS=1
 00;X-TITLE=Salón de Eventos:geo:0,0
END:VEVENT
BEGIN:VTIMEZONE
TZID:America/Mexico_City
X-LIC-LOCATION:America/Mexico_City
BEGIN:STANDARD
DTSTART:20250710T000000
TZOFFSETFROM:-0600
TZOFFSETTO:-0600
TZNAME:CST
END:STANDARD
END:VTIMEZONE
END:VCALENDAR