BEGIN:VCALENDAR
VERSION:2.0
PRODID:-//wp-events-plugin.com//6.6.4.4//EN
TZID:America/Mexico_City
X-WR-TIMEZONE:America/Mexico_City
BEGIN:VEVENT
UID:349@expoguadalajara.mx
DTSTART;TZID=America/Mexico_City;VALUE=DATE:20261104
DTEND;TZID=America/Mexico_City;VALUE=DATE:20261108
DTSTAMP:20260326T225645Z
URL:https://expoguadalajara.mx/events/44-congreso-nacional-de-oncologia-y-
 13-congreso-internacional-smeo-2026/
SUMMARY:44° Congreso Nacional de Oncología y 13° Congreso Internacional 
 SMEO 2026
DESCRIPTION:\n\n\n\n44° Congreso Nacional de Oncología y 13° Congreso In
 ternacional SMEO 2026\n\nPronto más información.\nDetalles\n\n\n\n\nHora
 rio\n\n\n\n\n\n\nHorario pendiente.\n\n\n\n\n\n\n\n\n\n\n\n\n\n\n\n\n\n\n\
 n\n\n\n\n\n\n\n\n\n
ATTACH;FMTTYPE=image/jpeg:https://expoguadalajara.mx/wp-content/uploads/20
 25/12/Imagen-Exterior-SMEO.png
CATEGORIES:Congresos
LOCATION:Salón Guadalajara\, Av. Mariano Otero 1499\, Verde Valle\, 44550\
 , Guadalajara\, México
X-APPLE-STRUCTURED-LOCATION;VALUE=URI;X-ADDRESS=Av. Mariano Otero 1499\, Ve
 rde Valle\, 44550\, Guadalajara\, México;X-APPLE-RADIUS=100;X-TITLE=Saló
 n Guadalajara:geo:0,0
END:VEVENT
BEGIN:VTIMEZONE
TZID:America/Mexico_City
X-LIC-LOCATION:America/Mexico_City
BEGIN:STANDARD
DTSTART:20251104T000000
TZOFFSETFROM:-0600
TZOFFSETTO:-0600
TZNAME:CST
END:STANDARD
END:VTIMEZONE
END:VCALENDAR