BEGIN:VCALENDAR
VERSION:2.0
PRODID:-//wp-events-plugin.com//6.6.4.4//EN
TZID:America/Mexico_City
X-WR-TIMEZONE:America/Mexico_City
BEGIN:VEVENT
UID:238@expoguadalajara.mx
DTSTART;TZID=America/Mexico_City:20260929T020000
DTEND;TZID=America/Mexico_City:20261001T200000
DTSTAMP:20260220T170055Z
URL:https://expoguadalajara.mx/events/ahr/
SUMMARY:AHR
DESCRIPTION:\n\n\n\nAHR\n\nEs el evento insignia de HVACR en Latinoamérica
 \, donde líderes\, innovadores y tomadores de decisiones se reúnen para 
 descubrir tendencias\, impulsar negocios y fortalecer la industria.\nDetal
 les\n\n\n\n\nHorario\nSitio Web\nNúmero de contacto\n\n\n2 pm a 8 pm\nahr
 expomexico.com\n81 8355 0809\n\n\nEmail\nRedes Sociales\nAdmisión a menor
 es de edad\n\n\ninformacion@ahrexpomexico.com\nventas@ahrexpomexico.com\n\
 n| FB | IG | X |\nEvento para mayores de edad\n\n\n\n
ATTACH;FMTTYPE=image/jpeg:https://expoguadalajara.mx/wp-content/uploads/20
 25/12/Banners-AHR-370x250px-02.jpg
CATEGORIES:Exposiciones
LOCATION:Salón Jalisco\, Av. Mariano Otero #1499 Col. Verde Valle\, Guadal
 ajara\, Jalisco\, México\, México
X-APPLE-STRUCTURED-LOCATION;VALUE=URI;X-ADDRESS=Av. Mariano Otero #1499 Col
 . Verde Valle\, Guadalajara\, Jalisco\, México\, México;X-APPLE-RADIUS=1
 00;X-TITLE=Salón Jalisco:geo:0,0
END:VEVENT
BEGIN:VTIMEZONE
TZID:America/Mexico_City
X-LIC-LOCATION:America/Mexico_City
BEGIN:STANDARD
DTSTART:20250929T020000
TZOFFSETFROM:-0600
TZOFFSETTO:-0600
TZNAME:CST
END:STANDARD
END:VTIMEZONE
END:VCALENDAR