BEGIN:VCALENDAR
VERSION:2.0
PRODID:-//wp-events-plugin.com//6.6.4.4//EN
TZID:America/Mexico_City
X-WR-TIMEZONE:America/Mexico_City
BEGIN:VEVENT
UID:162@expoguadalajara.mx
DTSTART;TZID=America/Mexico_City:20250430T000000
DTEND;TZID=America/Mexico_City:20250504T000000
DTSTAMP:20250429T002818Z
URL:https://expoguadalajara.mx/events/balloon-parade/
SUMMARY:Balloon Parade
DESCRIPTION:\n\nSegunda edición 2025\n\n¡El festival de globos más grand
 e del mundo con motivo del 75° Aniversario de la marca Globos Payaso!\n¿
 Alguna vez te imaginaste una competencia con muchas carrozas y esculturas 
 hechas con globos de látex deslizándose por las calles de Guadalajara?\n
 \n¡Te presentamos la magia del Balloon Parade Second Edition!\n“Balloon
  Parade” es un desfile callejero\, compuesto por carrozas escenográfica
 s con esculturas tridimensionales\, disfraces\, utilería y personajes\, u
 tilizando como materia prima únicamente globos de látex 100% biodegradab
 le mediante aplicaciones de diversas técnicas profesionales desarrolladas
  por los mejores artistas con globos.\nDetalles\n\n\n\n\nSitio Web\nIr al 
 sitio\nTeléfono\n33 2348 9360\nHorario\n4 de mayo de 14:3o a 18:00 hrs.\n
 \n\nAdmisión de menores\nSi\, con adultos/padres de familia\nFacebook\nIr
  al perfil\nInstagram\nIr al perfil\n\n\nEntrada Libre el 4 de Mayo\, al p
 úblico en general\n\n \n\n\n\n 
ATTACH;FMTTYPE=image/jpeg:https://expoguadalajara.mx/wp-content/uploads/20
 25/04/Banners_expo_370x250.png
CATEGORIES:Convenciones
LOCATION:Salón Jalisco E\, Av. Mariano Otero 1499\, Verde Valle\, 44550\, 
 Guadalajara\, Jalisco\, México\, México
X-APPLE-STRUCTURED-LOCATION;VALUE=URI;X-ADDRESS=Av. Mariano Otero 1499\, Ve
 rde Valle\, 44550\, Guadalajara\, Jalisco\, México\, México;X-APPLE-RADI
 US=100;X-TITLE=Salón Jalisco E:geo:0,0
END:VEVENT
BEGIN:VTIMEZONE
TZID:America/Mexico_City
X-LIC-LOCATION:America/Mexico_City
BEGIN:STANDARD
DTSTART:20240430T000000
TZOFFSETFROM:-0600
TZOFFSETTO:-0600
TZNAME:CST
END:STANDARD
END:VTIMEZONE
END:VCALENDAR