BEGIN:VCALENDAR
VERSION:2.0
PRODID:-//wp-events-plugin.com//6.6.4.4//EN
TZID:America/Mexico_City
X-WR-TIMEZONE:America/Mexico_City
BEGIN:VEVENT
UID:191@expoguadalajara.mx
DTSTART;TZID=America/Mexico_City:20251213T110000
DTEND;TZID=America/Mexico_City:20251214T190000
DTSTAMP:20250917T195651Z
URL:https://expoguadalajara.mx/events/bazar-circulo-mx/
SUMMARY:Bazar Circulo MX
DESCRIPTION:\n\n\nBazar Circulo MX\n\n\nVenta de Closet\, encontrarás ropa
  y accesorios de segunda mano\, emprendimiento de joyería\, accesorios y 
 todo lo relacionado al "estilo".\nDetalles\n\n\n\nSitio Web\nContacto\nEma
 il\nRedes sociales\n\n\nBazarCirculoMX.com\nVía DM en Instagram\nVía DM 
 en Instagram\n| IG |\n\n\nAdmisión de menores de edad\nRegistro \nCosto 
 de entrada\n\n\n\nEvento para toda la familia.\nEntrada Libre\nEntrada lib
 re\n\n\n\n
ATTACH;FMTTYPE=image/jpeg:https://expoguadalajara.mx/wp-content/uploads/20
 25/09/Imagen-calendario-EVENTO-WEB-BAZAR-CIRCULO-MX.jpg
CATEGORIES:Exposiciones
LOCATION:Foro Expo\, Av. Mariano Otero 1499\, Verde Valle\, 44550\, Guadala
 jara\, México
X-APPLE-STRUCTURED-LOCATION;VALUE=URI;X-ADDRESS=Av. Mariano Otero 1499\, Ve
 rde Valle\, 44550\, Guadalajara\, México;X-APPLE-RADIUS=100;X-TITLE=Foro 
 Expo:geo:0,0
END:VEVENT
BEGIN:VTIMEZONE
TZID:America/Mexico_City
X-LIC-LOCATION:America/Mexico_City
BEGIN:STANDARD
DTSTART:20241213T110000
TZOFFSETFROM:-0600
TZOFFSETTO:-0600
TZNAME:CST
END:STANDARD
END:VTIMEZONE
END:VCALENDAR