BEGIN:VCALENDAR
VERSION:2.0
PRODID:-//wp-events-plugin.com//6.6.4.4//EN
TZID:America/Mexico_City
X-WR-TIMEZONE:America/Mexico_City
BEGIN:VEVENT
UID:182@expoguadalajara.mx
DTSTART;TZID=America/Mexico_City:20250920T120000
DTEND;TZID=America/Mexico_City:20250921T200000
DTSTAMP:20250818T223947Z
URL:https://expoguadalajara.mx/events/bride-advisor/
SUMMARY:Expo Boda Guadalajara
DESCRIPTION:Expo Boda Guadalajara\nEvento dirigido a personas próximas a c
 asarse\, donde encontrarán proveedores para realizar la boda de sus sueñ
 os. Habrá pasarelas de vestidos y trajes\, accesorios y conjuntos de mús
 ica para tu evento.\nDetalles\n\n\n\nPágina web\nCorreo\n Teléfono\nSoc
 ial media\n\n\nBodaGuadalajara.com\ncontacto@brideadvisor.mx\n33 3315 2292
 \nFB | IG\n\n\nEvento para mayores de edad:\nCosto de ingreso:\nRegistro\n
 \n\n\nEvento para mayores de edad\nTaquilla $150.00 por persona por día.\
 n\nPrecio de Preventa $75.00 por persona\nRegístrate aquí\n\n\n\n
ATTACH;FMTTYPE=image/jpeg:https://expoguadalajara.mx/wp-content/uploads/20
 25/07/Imagen-calendario-EVENTO-WEB-EXPO-BODA.jpg
CATEGORIES:Exposiciones
LOCATION:Salón Jalisco C\, Av. Mariano Otero #1499 Col. Verde Valle\, Guad
 alajara\, Jalisco\, México\, México
X-APPLE-STRUCTURED-LOCATION;VALUE=URI;X-ADDRESS=Av. Mariano Otero #1499 Col
 . Verde Valle\, Guadalajara\, Jalisco\, México\, México;X-APPLE-RADIUS=1
 00;X-TITLE=Salón Jalisco C:geo:0,0
END:VEVENT
BEGIN:VTIMEZONE
TZID:America/Mexico_City
X-LIC-LOCATION:America/Mexico_City
BEGIN:STANDARD
DTSTART:20240920T120000
TZOFFSETFROM:-0600
TZOFFSETTO:-0600
TZNAME:CST
END:STANDARD
END:VTIMEZONE
END:VCALENDAR