BEGIN:VCALENDAR
VERSION:2.0
PRODID:-//wp-events-plugin.com//6.6.4.4//EN
TZID:America/Mexico_City
X-WR-TIMEZONE:America/Mexico_City
BEGIN:VEVENT
UID:228@expoguadalajara.mx
DTSTART;TZID=America/Mexico_City:20260804T110000
DTEND;TZID=America/Mexico_City:20260806T190000
DTSTAMP:20260310T180433Z
URL:https://expoguadalajara.mx/events/confitexpo-3/
SUMMARY:Confitexpo
DESCRIPTION:\n\n\n\nCONFITEXPO\n\nExposición Internacional para las Indust
 rias de la confitería\, chocolates\, botanas\, artículos para fiesta y p
 roductos desechables. Participan fabricantes y proveedores del sector.\nDe
 talles\n\n\n\n\nHorario\nWeb\nNúmero de Contacto\n\n\nDe 11:00 a.m. a 7:0
 0 p.m.\nconfitexpo.com\n55 5562 1356\n\n\nEmail\nRedes Sociales\nAdmisión
  para menores de edad\n\n\ninfo@confitexpo.com\n\n| FB | IG | X |\nEvento 
 para mayores de edad\n\n\n\n
ATTACH;FMTTYPE=image/jpeg:https://expoguadalajara.mx/wp-content/uploads/20
 25/12/Banners-Confitexpo-370x250px.jpg
CATEGORIES:Exposiciones
LOCATION:Salón Jalisco A y B\, Av. Mariano Otero #1499 Col. Verde Valle\, 
 Guadalajara\, Jalisco\, México.\, México
X-APPLE-STRUCTURED-LOCATION;VALUE=URI;X-ADDRESS=Av. Mariano Otero #1499 Col
 . Verde Valle\, Guadalajara\, Jalisco\, México.\, México;X-APPLE-RADIUS=
 100;X-TITLE=Salón Jalisco A y B:geo:0,0
END:VEVENT
BEGIN:VTIMEZONE
TZID:America/Mexico_City
X-LIC-LOCATION:America/Mexico_City
BEGIN:STANDARD
DTSTART:20250804T110000
TZOFFSETFROM:-0600
TZOFFSETTO:-0600
TZNAME:CST
END:STANDARD
END:VTIMEZONE
END:VCALENDAR