BEGIN:VCALENDAR
VERSION:2.0
PRODID:-//wp-events-plugin.com//6.6.4.4//EN
TZID:America/Mexico_City
X-WR-TIMEZONE:America/Mexico_City
BEGIN:VEVENT
UID:407@expoguadalajara.mx
DTSTART;TZID=America/Mexico_City:20261029T100000
DTEND;TZID=America/Mexico_City:20261101T080000
DTSTAMP:20260422T200345Z
URL:https://expoguadalajara.mx/events/confuror-4/
SUMMARY:Confuror
DESCRIPTION:\n\n\n\nCONFUROR\nConfuror es una convención anual enfocada en
  reunir a aficionados a los animales antropomórficos (furry). Es un espac
 io recreativo para personas de todas las edades. La convención ofrece act
 ividades\, talleres y espacios para artistas y expositores interesados en 
 este tema\, así como actividades y recaudaciones económicas en beneficio
  de asociaciones de conservación animal.\n\nDetalles\n\n\n\nHorario\nPág
 ina Web\nRedes Sociales\nEmail\n\n\nDe 10:00 am a 8:00 pm\nconfuror.org\n|
  FB |\n info@confuror.org\n\n\nAdmisión a menores de edad\nLink de regis
 tro\nCosto de ingreso\n\n\n\nPreferentemente mayores de edad\n confuror.o
 rg/registro/\nDe $1\,299.00 mxn a\n$3\,799.00 mxn\n\n\n\n\n\n\n
ATTACH;FMTTYPE=image/jpeg:https://expoguadalajara.mx/wp-content/uploads/20
 26/04/Banner-Confuror-250x370px.jpg
CATEGORIES:Exposiciones
LOCATION:Salón Jalisco D y E\, Av. Mariano Otero 1499\, Verde Valle\, 4455
 0\, Guadalajara\, Jalisco\, México\, México
X-APPLE-STRUCTURED-LOCATION;VALUE=URI;X-ADDRESS=Av. Mariano Otero 1499\, Ve
 rde Valle\, 44550\, Guadalajara\, Jalisco\, México\, México;X-APPLE-RADI
 US=100;X-TITLE=Salón Jalisco D y E:geo:0,0
END:VEVENT
BEGIN:VTIMEZONE
TZID:America/Mexico_City
X-LIC-LOCATION:America/Mexico_City
BEGIN:STANDARD
DTSTART:20251029T100000
TZOFFSETFROM:-0600
TZOFFSETTO:-0600
TZNAME:CST
END:STANDARD
END:VTIMEZONE
END:VCALENDAR