BEGIN:VCALENDAR
VERSION:2.0
PRODID:-//wp-events-plugin.com//6.6.4.4//EN
TZID:America/Mexico_City
X-WR-TIMEZONE:America/Mexico_City
BEGIN:VEVENT
UID:381@expoguadalajara.mx
DTSTART;TZID=America/Mexico_City:20260827T083000
DTEND;TZID=America/Mexico_City:20260827T203000
DTSTAMP:20260309T232114Z
URL:https://expoguadalajara.mx/events/congreso-inmobiliario-de-occidente/
SUMMARY:Congreso Inmobiliario de Occidente
DESCRIPTION:\n\n\n\n\n\n\n\nCONGRESO INMOBILIARIO DE OCCIDENTE\n\nDesde hac
 e más de 10 años\, el Congreso Inmobiliario de Occidente se ha consolida
 do como el evento inmobiliario más relevante de la región\, resultado de
  la colaboración de las tres asociaciones inmobiliarias más representati
 vas del occidente del país:\nPAIS – Profesionales en Asesoría Inmobili
 aria y Similares\nOrganizador y anfitrión de la 10ª edición\nSICAMARA 
 – Sección de Inmobiliarias de la Cámara de Comercio\nMIO – Movimient
 o Inmobiliario de Occidente\nJuntas\, han creado un espacio donde el conoc
 imiento\, las conexiones y los negocios convergen.\nDetalles\n\n\n\n\nHora
 rio\nSitio Web\nRedes Sociales\nNúmero de Contacto\n\n\nDe 8:30 a.m. a 8:
 00 p.m.\ncongresoinmobiliariodeoccidente.com\n\n| FB | IG |\n3330777236\n\
 n\n\n\n\n\n\n\n\n\n\n\n\n\n\n
ATTACH;FMTTYPE=image/jpeg:https://expoguadalajara.mx/wp-content/uploads/20
 26/02/Banner-C.Inmobiliaria-370x250px.jpg
CATEGORIES:Congresos
LOCATION:Salón Guadalajara\, Av. Mariano Otero 1499\, Verde Valle\, 44550\
 , Guadalajara\, México
X-APPLE-STRUCTURED-LOCATION;VALUE=URI;X-ADDRESS=Av. Mariano Otero 1499\, Ve
 rde Valle\, 44550\, Guadalajara\, México;X-APPLE-RADIUS=100;X-TITLE=Saló
 n Guadalajara:geo:0,0
END:VEVENT
BEGIN:VTIMEZONE
TZID:America/Mexico_City
X-LIC-LOCATION:America/Mexico_City
BEGIN:STANDARD
DTSTART:20250827T083000
TZOFFSETFROM:-0600
TZOFFSETTO:-0600
TZNAME:CST
END:STANDARD
END:VTIMEZONE
END:VCALENDAR