BEGIN:VCALENDAR
VERSION:2.0
PRODID:-//wp-events-plugin.com//6.6.4.4//EN
TZID:America/Mexico_City
X-WR-TIMEZONE:America/Mexico_City
BEGIN:VEVENT
UID:345@expoguadalajara.mx
DTSTART;TZID=America/Mexico_City;VALUE=DATE:20260729
DTEND;TZID=America/Mexico_City;VALUE=DATE:20260731
DTSTAMP:20251224T000934Z
URL:https://expoguadalajara.mx/events/congreso-internacional-aneberries/
SUMMARY:Congreso Internacional Aneberries
DESCRIPTION:\n\n\n\nCongreso Internacional Aneberries\n\nPronto más inform
 ación.\nDetalles\n\n\n\n\nHorario\n\n\n\n\n\n\nHorario pendiente.\n\n\n\n
 \n\n\n\n\n\n\n\n\n\n\n\n\n\n\n\n\n\n\n\n\n\n\n\n\n
ATTACH;FMTTYPE=image/jpeg:https://expoguadalajara.mx/wp-content/uploads/20
 25/02/evento-1.svg
CATEGORIES:Congresos
LOCATION:Salón Guadalajara\, Av. Mariano Otero 1499\, Verde Valle\, 44550\
 , Guadalajara\, México
X-APPLE-STRUCTURED-LOCATION;VALUE=URI;X-ADDRESS=Av. Mariano Otero 1499\, Ve
 rde Valle\, 44550\, Guadalajara\, México;X-APPLE-RADIUS=100;X-TITLE=Saló
 n Guadalajara:geo:0,0
END:VEVENT
BEGIN:VTIMEZONE
TZID:America/Mexico_City
X-LIC-LOCATION:America/Mexico_City
BEGIN:STANDARD
DTSTART:20250729T000000
TZOFFSETFROM:-0600
TZOFFSETTO:-0600
TZNAME:CST
END:STANDARD
END:VTIMEZONE
END:VCALENDAR