BEGIN:VCALENDAR
VERSION:2.0
PRODID:-//wp-events-plugin.com//6.6.4.4//EN
TZID:America/Mexico_City
X-WR-TIMEZONE:America/Mexico_City
BEGIN:VEVENT
UID:343@expoguadalajara.mx
DTSTART;TZID=America/Mexico_City:20260701T070000
DTEND;TZID=America/Mexico_City:20260704T190000
DTSTAMP:20260408T234216Z
URL:https://expoguadalajara.mx/events/congreso-internacional-de-dermatolog
 os-dermajal-2026/
SUMMARY:Congreso Internacional de Dermatólogos\, DermaJal 2026
DESCRIPTION:\n\n\n\nCongreso Internacional de Dermatólogos\, DermaJal 2026
 \n\nEs un encuentro médico de alto nivel que reúne a dermatólogos\, cir
 ujanos\, investigadores y residentes para actualizarse en avances científ
 icos\, práctica clínica\, dermatología médica\, quirúrgica y estétic
 a\, a través de conferencias\, simposios y actividades académicas especi
 alizadas.\nDetalles\n\n\n\n\nHorario\nPágina Web\n\n\n\n\n\nDe 7:00 am a 
 7:00 om\ncongresodermajal.com.mx\n\n\n\n\n\n\n\n\n\n\n\n\n\n\n\n\n\n\n\n\n
 \n\n\n\n\n\n\n
ATTACH;FMTTYPE=image/jpeg:https://expoguadalajara.mx/wp-content/uploads/20
 25/12/CONGRESO-DERMAJAL-2026-COLEGIO-DERMAJAL-LOBBY-MEDICO-GUADALAJARA-MUN
 DIAL-DE-DERMATOLOGIA-2-.png
CATEGORIES:Congresos
LOCATION:Salón Guadalajara\, Av. Mariano Otero 1499\, Verde Valle\, 44550\
 , Guadalajara\, México
X-APPLE-STRUCTURED-LOCATION;VALUE=URI;X-ADDRESS=Av. Mariano Otero 1499\, Ve
 rde Valle\, 44550\, Guadalajara\, México;X-APPLE-RADIUS=100;X-TITLE=Saló
 n Guadalajara:geo:0,0
END:VEVENT
BEGIN:VTIMEZONE
TZID:America/Mexico_City
X-LIC-LOCATION:America/Mexico_City
BEGIN:STANDARD
DTSTART:20250701T070000
TZOFFSETFROM:-0600
TZOFFSETTO:-0600
TZNAME:CST
END:STANDARD
END:VTIMEZONE
END:VCALENDAR