BEGIN:VCALENDAR
VERSION:2.0
PRODID:-//wp-events-plugin.com//6.6.4.4//EN
TZID:America/Mexico_City
X-WR-TIMEZONE:America/Mexico_City
BEGIN:VEVENT
UID:37@expoguadalajara.mx
DTSTART;TZID=America/Mexico_City:20250626T090000
DTEND;TZID=America/Mexico_City:20250627T180000
DTSTAMP:20250312T211527Z
URL:https://expoguadalajara.mx/events/congreso-internacional-de-la-carne-2
 025/
SUMMARY:Congreso Internacional de la Carne 2025
DESCRIPTION:\nCongreso Internacional de la Carne 2025\nEl Congreso Internac
 ional de la Carne\, reúne al sector pecuario del país.Es uno de los foro
 s más importantes de la industria cárnica que ofrece un sólido ciclo de
  conferencias especializadas\, acompañado de una amplia área de exposici
 ón. En esta zona participan proveedores de carne\, fabricantes y distribu
 idores de maquinaria\, equipos de empaque\, laboratorios veterinarios\, si
 stemas de refrigeración y otros servicios clave para la industria. Ademá
 s\, el evento incluye talleres técnicos para el marinado y valor agregado
  de la carne.\n\nEs organizado por la Asociación Mexicana de Engordadores
  de Ganado Bovino (AMEG)\, quien concentra a los principales productores d
 e ganado en corral intensivo y de procesamiento de cárnicos.\nDetalles\n\
 n\n\nTeléfono\n811 281 4476\nCorreo\ninformes@congresodelacarne.com\nSiti
 o web\ncongresodelacarne.com\nHorarios\n26 Junio 9:00 am a 6:00 pm 27 de J
 unio 9:00 am a 5:00 pm\nFacebook\nIr al perfil\nInstagram\nIr al perfil\n\
 n\n
ATTACH;FMTTYPE=image/jpeg:https://expoguadalajara.mx/wp-content/uploads/20
 25/03/congreso-carne.jpg
CATEGORIES:Congresos
LOCATION:Salón Jalisco\, Av. Mariano Otero #1499 Col. Verde Valle\, Guadal
 ajara\, Jalisco\, México\, México
X-APPLE-STRUCTURED-LOCATION;VALUE=URI;X-ADDRESS=Av. Mariano Otero #1499 Col
 . Verde Valle\, Guadalajara\, Jalisco\, México\, México;X-APPLE-RADIUS=1
 00;X-TITLE=Salón Jalisco:geo:0,0
END:VEVENT
BEGIN:VTIMEZONE
TZID:America/Mexico_City
X-LIC-LOCATION:America/Mexico_City
BEGIN:STANDARD
DTSTART:20240626T090000
TZOFFSETFROM:-0600
TZOFFSETTO:-0600
TZNAME:CST
END:STANDARD
END:VTIMEZONE
END:VCALENDAR