BEGIN:VCALENDAR
VERSION:2.0
PRODID:-//wp-events-plugin.com//6.6.4.4//EN
TZID:America/Mexico_City
X-WR-TIMEZONE:America/Mexico_City
BEGIN:VEVENT
UID:401@expoguadalajara.mx
DTSTART;TZID=America/Mexico_City:20260711T100000
DTEND;TZID=America/Mexico_City:20260711T200000
DTSTAMP:20260327T161631Z
URL:https://expoguadalajara.mx/events/desertcon/
SUMMARY:DesertCon
DESCRIPTION:\n\n\n\nDESERTCON\n\nEvento de entretenimiento enfocado en nost
 algia y celebridades\, centrado en la experiencia directa con el talento i
 nternacional reuniendo lo mejor de la cultura pop\, cine\, series\, cospla
 y\, creadores de contenido y mucho más\, en una experiencia única para f
 ans de todas las edades.\nDetalles\n\n\n\n\nHorario\nRedes Sociales\nEmail
 \n\n\n\n\nDe 10:00 am a 8:00 pm\n\n| FB | IG |\ncontacto@desertentertainme
 nt.mx\n\n\n\n\nLink de Registro\nAdmisión para menores de edad\nCosto de 
 ingreso\n\n\n\n\ndesertcongdl.boletopolis.com\nEvento para toda la familia
 \n\nDe $249.00 a $1\,499.00\n\n\n\n\n\n
ATTACH;FMTTYPE=image/jpeg:https://expoguadalajara.mx/wp-content/uploads/20
 26/03/Banner-Desertcon-370x250-px.jpg
CATEGORIES:Exposiciones
LOCATION:Salón Jalisco A\, Av. Mariano Otero #1499 Col. Verde Valle\, Guad
 alajara\, Jalisco\, México.\, México
X-APPLE-STRUCTURED-LOCATION;VALUE=URI;X-ADDRESS=Av. Mariano Otero #1499 Col
 . Verde Valle\, Guadalajara\, Jalisco\, México.\, México;X-APPLE-RADIUS=
 100;X-TITLE=Salón Jalisco A:geo:0,0
END:VEVENT
BEGIN:VTIMEZONE
TZID:America/Mexico_City
X-LIC-LOCATION:America/Mexico_City
BEGIN:STANDARD
DTSTART:20250711T100000
TZOFFSETFROM:-0600
TZOFFSETTO:-0600
TZNAME:CST
END:STANDARD
END:VTIMEZONE
END:VCALENDAR