BEGIN:VCALENDAR
VERSION:2.0
PRODID:-//wp-events-plugin.com//6.6.4.4//EN
TZID:America/Mexico_City
X-WR-TIMEZONE:America/Mexico_City
BEGIN:VEVENT
UID:298@expoguadalajara.mx
DTSTART;TZID=America/Mexico_City:20260531T100000
DTEND;TZID=America/Mexico_City:20260601T200000
DTSTAMP:20260216T230135Z
URL:https://expoguadalajara.mx/events/ebio-2/
SUMMARY:EBIO
DESCRIPTION:\n\n\n\nEBIO\n\nEs el punto de encuentro de profesionales de la
  belleza\, donde encontrarás las mejores marcas\, shows\, seminarios de a
 ctualización\, productos y servicios en: uñas\, maquillaje\, cabello\, c
 olorimetría\, barbería\, herramientas\, tratamientos capilares\, y corpo
 rales\, muebles y más.\nDetalles\n\n\n\n\nHorario\nPágina web\nNúmero d
 e Contacto\nLink de Registro\n\n\n\n10:00 am a 8:00 pm\nEBIO.mx\n33 1466 2
 484\nebio/registro.mx\n\n\n\nEmail\nRedes Sociales\nAdmisión para menores
  de edad\nCosto de ingreso\n\n\n\ninfo@ebio.mx\n\n| FB | IG |\nEvento para
  mayores de edad\n\n$440 1 día\n$460 2 días\n\n\n\n\n
ATTACH;FMTTYPE=image/jpeg:https://expoguadalajara.mx/wp-content/uploads/20
 25/12/Banners-EBIO-270x250px.jpg
CATEGORIES:Exposiciones
LOCATION:Salón Jalisco\, Av. Mariano Otero #1499 Col. Verde Valle\, Guadal
 ajara\, Jalisco\, México\, México
X-APPLE-STRUCTURED-LOCATION;VALUE=URI;X-ADDRESS=Av. Mariano Otero #1499 Col
 . Verde Valle\, Guadalajara\, Jalisco\, México\, México;X-APPLE-RADIUS=1
 00;X-TITLE=Salón Jalisco:geo:0,0
END:VEVENT
BEGIN:VTIMEZONE
TZID:America/Mexico_City
X-LIC-LOCATION:America/Mexico_City
BEGIN:STANDARD
DTSTART:20250531T100000
TZOFFSETFROM:-0600
TZOFFSETTO:-0600
TZNAME:CST
END:STANDARD
END:VTIMEZONE
END:VCALENDAR