BEGIN:VCALENDAR
VERSION:2.0
PRODID:-//wp-events-plugin.com//6.6.4.4//EN
TZID:America/Mexico_City
X-WR-TIMEZONE:America/Mexico_City
BEGIN:VEVENT
UID:218@expoguadalajara.mx
DTSTART;TZID=America/Mexico_City:20260519T110000
DTEND;TZID=America/Mexico_City:20260521T190000
DTSTAMP:20260310T180548Z
URL:https://expoguadalajara.mx/events/expo-antad/
SUMMARY:Expo ANTAD
DESCRIPTION:\n\n\n\nEXPO ANTAD\n\nEs la plataforma de negocios del sector r
 etail\, horeca y cadena alimentación reconocida internacionalmente en don
 de detallistas y proveedores intercambian puntos de vista para definir el 
 futuro del sector comercio.\nDetalles\n\n\n\n\nHorario\nPágina web\nNúme
 ro de contacto\nLink de registro\n\n\n\nDe 11:00 am a 7:00 pm\nexpoantad.c
 om.mx\n55 5580 9900\n\n\n\n\nEmail\nRedes Sociales\nAdmisión a menores de
  edad\n\n\n\n\ninfo@expoantad.com.mx\n\n| FB | IG | X | IN |\nEvento para 
 mayores de edad\n\n\n\n\n\n
ATTACH;FMTTYPE=image/jpeg:https://expoguadalajara.mx/wp-content/uploads/20
 25/12/Banners-ANTAD-370x250px.jpg
CATEGORIES:Exposiciones
LOCATION:Evento de recinto\, Av. Mariano Otero 1499\, Verde Valle\, 44550\,
  Guadalajara\, México
X-APPLE-STRUCTURED-LOCATION;VALUE=URI;X-ADDRESS=Av. Mariano Otero 1499\, Ve
 rde Valle\, 44550\, Guadalajara\, México;X-APPLE-RADIUS=100;X-TITLE=Event
 o de recinto:geo:0,0
END:VEVENT
BEGIN:VTIMEZONE
TZID:America/Mexico_City
X-LIC-LOCATION:America/Mexico_City
BEGIN:STANDARD
DTSTART:20250519T110000
TZOFFSETFROM:-0600
TZOFFSETTO:-0600
TZNAME:CST
END:STANDARD
END:VTIMEZONE
END:VCALENDAR