BEGIN:VCALENDAR
VERSION:2.0
PRODID:-//wp-events-plugin.com//6.6.4.4//EN
TZID:America/Mexico_City
X-WR-TIMEZONE:America/Mexico_City
BEGIN:VEVENT
UID:303@expoguadalajara.mx
DTSTART;TZID=America/Mexico_City:20260919T100000
DTEND;TZID=America/Mexico_City:20260920T200000
DTSTAMP:20260417T194552Z
URL:https://expoguadalajara.mx/events/expo-auto-estrenos-3/
SUMMARY:Expo Auto Estrenos
DESCRIPTION:\n\n\n\nEXPO AUTO ESTRENOS\n\nEn Expo Auto Estrenos 2025 vivir
 ás una experiencia inmersiva\, donde encontrarás las mejores marcas y mo
 delos de autos reunidas en un sólo sitio para ti. Compara\, cotiza\, sien
 te\, huele\, escucha\, enciende tu próximo auto. Tendrás cada opción de
 l segmento que más te interesa reunidas en una sala y por qué no\, haz u
 na prueba demo.\nDetalles\n\n\n\n\nHorario\nSitio web\nNúmero de contacto
 \nLink de registro\n\n\nDe 10:00 am a 8:00 pm\nexpoautogdl.com.mx\n33-3121
 -7066\n\n\n\nEmail\nRedes Sociales\nAdmisión a menores de edad\nCosto de 
 ingreso\n\n\nmercadotecnia@amdajal.com.mx\n\n| FB | IG | X |\n\nEvento par
 a toda la familia.\n\n\n\n\n
ATTACH;FMTTYPE=image/jpeg:https://expoguadalajara.mx/wp-content/uploads/20
 26/02/EAE_2026_370x250.jpg
CATEGORIES:Exposiciones
LOCATION:Salón Jalisco\, Av. Mariano Otero #1499 Col. Verde Valle\, Guadal
 ajara\, Jalisco\, México\, México
X-APPLE-STRUCTURED-LOCATION;VALUE=URI;X-ADDRESS=Av. Mariano Otero #1499 Col
 . Verde Valle\, Guadalajara\, Jalisco\, México\, México;X-APPLE-RADIUS=1
 00;X-TITLE=Salón Jalisco:geo:0,0
END:VEVENT
BEGIN:VTIMEZONE
TZID:America/Mexico_City
X-LIC-LOCATION:America/Mexico_City
BEGIN:STANDARD
DTSTART:20250919T100000
TZOFFSETFROM:-0600
TZOFFSETTO:-0600
TZNAME:CST
END:STANDARD
END:VTIMEZONE
END:VCALENDAR