BEGIN:VCALENDAR
VERSION:2.0
PRODID:-//wp-events-plugin.com//6.6.4.4//EN
TZID:America/Mexico_City
X-WR-TIMEZONE:America/Mexico_City
BEGIN:VEVENT
UID:7@expoguadalajara.mx
DTSTART;TZID=America/Mexico_City:20250313T110000
DTEND;TZID=America/Mexico_City:20250315T200000
DTSTAMP:20250306T172344Z
URL:https://expoguadalajara.mx/events/expo-cafe-gourmet/
SUMMARY:EXPO CAFÉ GOURMET
DESCRIPTION:\nEXPO CAFÉ GOURMET\nUna exposición que fusiona lo mejor de E
 xpo Café y Gourmet Show los dos eventos que marcan la tendencia gastronó
 mica en México.\nDetalles \n\n\n\nCorreo \ninfo@cafeygourmet.com\nPági
 na web\ncafeygourmet.com\nTeléfono\n(55) 56044900 ext. 122 y 124\n\n\n\n\
 n
ATTACH;FMTTYPE=image/jpeg:https://expoguadalajara.mx/wp-content/uploads/20
 25/03/expo-cafe-gourmet.png
CATEGORIES:Exposiciones
LOCATION:Salón Jalisco\, Av. Mariano Otero #1499 Col. Verde Valle\, Guadal
 ajara\, Jalisco\, México\, México
X-APPLE-STRUCTURED-LOCATION;VALUE=URI;X-ADDRESS=Av. Mariano Otero #1499 Col
 . Verde Valle\, Guadalajara\, Jalisco\, México\, México;X-APPLE-RADIUS=1
 00;X-TITLE=Salón Jalisco:geo:0,0
END:VEVENT
BEGIN:VTIMEZONE
TZID:America/Mexico_City
X-LIC-LOCATION:America/Mexico_City
BEGIN:STANDARD
DTSTART:20240313T110000
TZOFFSETFROM:-0600
TZOFFSETTO:-0600
TZNAME:CST
END:STANDARD
END:VTIMEZONE
END:VCALENDAR