BEGIN:VCALENDAR
VERSION:2.0
PRODID:-//wp-events-plugin.com//6.6.4.4//EN
TZID:America/Mexico_City
X-WR-TIMEZONE:America/Mexico_City
BEGIN:VEVENT
UID:300@expoguadalajara.mx
DTSTART;TZID=America/Mexico_City:20260711T100000
DTEND;TZID=America/Mexico_City:20260712T190000
DTSTAMP:20260310T180204Z
URL:https://expoguadalajara.mx/events/expo-cerrajera-4/
SUMMARY:Expo Cerrajera
DESCRIPTION:\n\n\n\nEXPO CERRAJERA\n\nExposición especializada en la indus
 tria de la cerrajería automotriz\, residencial y electromecánica.\nDetal
 les\n\n\n\n\nHorario\nPágina web\nNúmero de Contacto\nLink de Registro\n
 \n\n\nDe 10:00 am a 8:00 pm\nexpocerrajeragdl.com\n33 1724 8766\n\n\n\n\nE
 mail\nRedes Sociales\nAdmisión para menores de edad\nCosto de ingreso\n\n
 \n\ncontacto@expocerrajeragdl.com\n\n| FB | IG |\nEvento para mayores de e
 dad\n\n\n\n\n\n\n
ATTACH;FMTTYPE=image/jpeg:https://expoguadalajara.mx/wp-content/uploads/20
 25/12/Banners-CERRAJERA-370x250px.jpg
CATEGORIES:Exposiciones
LOCATION:Salón Jalisco E\, Av. Mariano Otero 1499\, Verde Valle\, 44550\, 
 Guadalajara\, Jalisco\, México\, México
X-APPLE-STRUCTURED-LOCATION;VALUE=URI;X-ADDRESS=Av. Mariano Otero 1499\, Ve
 rde Valle\, 44550\, Guadalajara\, Jalisco\, México\, México;X-APPLE-RADI
 US=100;X-TITLE=Salón Jalisco E:geo:0,0
END:VEVENT
BEGIN:VTIMEZONE
TZID:America/Mexico_City
X-LIC-LOCATION:America/Mexico_City
BEGIN:STANDARD
DTSTART:20250711T100000
TZOFFSETFROM:-0600
TZOFFSETTO:-0600
TZNAME:CST
END:STANDARD
END:VTIMEZONE
END:VCALENDAR