BEGIN:VCALENDAR
VERSION:2.0
PRODID:-//wp-events-plugin.com//6.6.4.4//EN
TZID:America/Mexico_City
X-WR-TIMEZONE:America/Mexico_City
BEGIN:VEVENT
UID:305@expoguadalajara.mx
DTSTART;TZID=America/Mexico_City:20260515T120000
DTEND;TZID=America/Mexico_City:20260517T190000
DTSTAMP:20260310T182123Z
URL:https://expoguadalajara.mx/events/expo-cerveza-3/
SUMMARY:Expo Cerveza
DESCRIPTION:\n\n\n\nEXPO CERVEZA\n\nEs un espacio interactivo para degustar
  y hablar de cerveza. Encontrarás la oferta más completa de estilos y ma
 rcas de cervezas artesanal\, productores e importadores ya sean artesanale
 s\, caseras y de especialidad.\nDetalles\n\n\n\n\nHorario\nPágina web\nN
 úmero de contacto\nEmail\n\n\n\nViernes: 13:00 a 22:00\nSábado: 12:00 a 
 22:00\nDomingo: 12:00 a 19:00\nCerveza.mx\n55 5604 4900\n info@cervezamex
 ico.com\n\n\n\nRedes Sociales\nAdmisión de menores de edad\nLink de regis
 tro\nCosto de ingreso\n\n\n\n| FB | IG | X |\n\nEvento para mayores de eda
 d.\ncervezamexico/registro.com\n$160 Del 29 de enero al 19 de marzo 2026\n
 $190 Del 20 de marzo al 14 de mayo 2026\n$200 Del 15 de mayo al 17 de mayo
  2026\n\n\n\n\n
ATTACH;FMTTYPE=image/jpeg:https://expoguadalajara.mx/wp-content/uploads/20
 25/12/Banners-CERVEZA-370x250px.jpg
CATEGORIES:Exposiciones
LOCATION:Salón México\, Av. Mariano Otero 1499\, Verde Valle\, 44550\, Gu
 adalajara\, Jalisco\, México\, México
X-APPLE-STRUCTURED-LOCATION;VALUE=URI;X-ADDRESS=Av. Mariano Otero 1499\, Ve
 rde Valle\, 44550\, Guadalajara\, Jalisco\, México\, México;X-APPLE-RADI
 US=100;X-TITLE=Salón México:geo:0,0
END:VEVENT
BEGIN:VTIMEZONE
TZID:America/Mexico_City
X-LIC-LOCATION:America/Mexico_City
BEGIN:STANDARD
DTSTART:20250515T120000
TZOFFSETFROM:-0600
TZOFFSETTO:-0600
TZNAME:CST
END:STANDARD
END:VTIMEZONE
END:VCALENDAR