BEGIN:VCALENDAR
VERSION:2.0
PRODID:-//wp-events-plugin.com//6.6.4.4//EN
TZID:America/Mexico_City
X-WR-TIMEZONE:America/Mexico_City
BEGIN:VEVENT
UID:299@expoguadalajara.mx
DTSTART;TZID=America/Mexico_City:20260709T110000
DTEND;TZID=America/Mexico_City:20260711T180000
DTSTAMP:20260310T175707Z
URL:https://expoguadalajara.mx/events/expo-gruas-4/
SUMMARY:Expo Grúas
DESCRIPTION:\n\n\n\nEXPO GRÚAS\n\nEs una exhibición única en su categor
 ía\, en donde podrás encontrar a los mejores proveedores del sector de g
 rúas de arrastre y salvamento\, así como desarrolladores de software\, c
 ompañías de seguros y financieras\, que te ofrecen servicios para fortal
 ecer tu empresa.\nDetalles\n\n\n\n\nHorario\nPágina web\nNúmero de conta
 cto\nLink de registro\n\n\n\nDe 11:00 am a 6:00 pm\nexpogruas.mx\n33 3852 
 5930\nexpogruas/registro.com\n\n\n\nEmail\nRedes Sociales\nAdmisión a men
 ores de edad\nCosto de ingreso\n\n\n\ncontacto@expogruas.com\n\n| FB | IG 
 | X |\nSe permite ingreso de menores acompañados de adultos\n\nEntrada si
 n costo\n\n\n\n\n
ATTACH;FMTTYPE=image/jpeg:https://expoguadalajara.mx/wp-content/uploads/20
 25/12/Banners-GRUAS-370x250px.jpg
CATEGORIES:Exposiciones
LOCATION:Salón Jalisco C\, Av. Mariano Otero #1499 Col. Verde Valle\, Guad
 alajara\, Jalisco\, México\, México
X-APPLE-STRUCTURED-LOCATION;VALUE=URI;X-ADDRESS=Av. Mariano Otero #1499 Col
 . Verde Valle\, Guadalajara\, Jalisco\, México\, México;X-APPLE-RADIUS=1
 00;X-TITLE=Salón Jalisco C:geo:0,0
END:VEVENT
BEGIN:VTIMEZONE
TZID:America/Mexico_City
X-LIC-LOCATION:America/Mexico_City
BEGIN:STANDARD
DTSTART:20250709T110000
TZOFFSETFROM:-0600
TZOFFSETTO:-0600
TZNAME:CST
END:STANDARD
END:VTIMEZONE
END:VCALENDAR