BEGIN:VCALENDAR
VERSION:2.0
PRODID:-//wp-events-plugin.com//6.6.4.4//EN
TZID:America/Mexico_City
X-WR-TIMEZONE:America/Mexico_City
BEGIN:VEVENT
UID:302@expoguadalajara.mx
DTSTART;TZID=America/Mexico_City:20260909T140000
DTEND;TZID=America/Mexico_City:20260911T210000
DTSTAMP:20260310T175406Z
URL:https://expoguadalajara.mx/events/expo-internacional-rujac-4/
SUMMARY:Expo Internacional Rujac
DESCRIPTION:\n\n\n\nEXPO INTERNACIONAL RUJAC\n\nLa Exposición más importa
 nte de la industria de autopartes.\nDetalles\n\n\n\n\nHorario\nWeb\nNúmer
 o de contacto\nLink de registro\n\n\n\nDe 2:00 pm a 09:00 pm\nrujac.com.mx
 \n33 3825 42 02\nrujac/registro.com\n\n\n\nEmail\nRedes Sociales\nAdmisió
 n a menores de edad\nCosto de ingreso\n\n\n\nexpo@rujac.com.mx\n\n| FB |\n
 Evento para mayores de edad\n$100 por persona\n\n\n\n\n
ATTACH;FMTTYPE=image/jpeg:https://expoguadalajara.mx/wp-content/uploads/20
 25/12/Banners-RUJAC-370x250px.jpg
CATEGORIES:Exposiciones
LOCATION:Salón Jalisco\, Av. Mariano Otero #1499 Col. Verde Valle\, Guadal
 ajara\, Jalisco\, México\, México
X-APPLE-STRUCTURED-LOCATION;VALUE=URI;X-ADDRESS=Av. Mariano Otero #1499 Col
 . Verde Valle\, Guadalajara\, Jalisco\, México\, México;X-APPLE-RADIUS=1
 00;X-TITLE=Salón Jalisco:geo:0,0
END:VEVENT
BEGIN:VTIMEZONE
TZID:America/Mexico_City
X-LIC-LOCATION:America/Mexico_City
BEGIN:STANDARD
DTSTART:20250909T140000
TZOFFSETFROM:-0600
TZOFFSETTO:-0600
TZNAME:CST
END:STANDARD
END:VTIMEZONE
END:VCALENDAR