BEGIN:VCALENDAR
VERSION:2.0
PRODID:-//wp-events-plugin.com//6.6.4.4//EN
TZID:America/Mexico_City
X-WR-TIMEZONE:America/Mexico_City
BEGIN:VEVENT
UID:227@expoguadalajara.mx
DTSTART;TZID=America/Mexico_City:20260827T100000
DTEND;TZID=America/Mexico_City:20260829T200000
DTSTAMP:20260310T174922Z
URL:https://expoguadalajara.mx/events/expo-merceria-y-manualidades-3/
SUMMARY:Expo Mercería y Manualidades
DESCRIPTION:\n\n\n\nEXPO MERCERIA Y MANUALIDADES\n\nEspacio creado y pensad
 o para los grandes emprendedores\, apasionados y creativos de las artes ma
 nuales\, reuniendo en un sólo lugar a las principales empresas\, fabrican
 tes\, importadoras\, negocios y maestros de toda la República Mexicana.\n
 Detalles\n\n\n\n\nHorario\nSitio Web\nNúmero de Contacto\nLink de registr
 o\n\n\nDe 10:00 a.m. a 8:00 p.m.\nexpomerceria.mx\n 555604 4900\nmanualid
 ades/registro.com\n\n\nEmail\nRedes Sociales\nAdmisión para menores de ed
 ad\nCosto de ingreso\n\n\ninfo@expomanualidades.info\n\n| FB | IG |\n\nEve
 nto para toda la familia\nCosto con pre-registro $110.00 MXN 1 día\, por 
 persona. Acceso a lactantes-infantes exclusivamente en brazos (sin costo h
 asta 3 años 11 meses\n\n\n\n
ATTACH;FMTTYPE=image/jpeg:https://expoguadalajara.mx/wp-content/uploads/20
 25/12/Banners-MERCERIA-370x250px.jpg
CATEGORIES:Exposiciones
LOCATION:Salón México\, Av. Mariano Otero 1499\, Verde Valle\, 44550\, Gu
 adalajara\, Jalisco\, México\, México
X-APPLE-STRUCTURED-LOCATION;VALUE=URI;X-ADDRESS=Av. Mariano Otero 1499\, Ve
 rde Valle\, 44550\, Guadalajara\, Jalisco\, México\, México;X-APPLE-RADI
 US=100;X-TITLE=Salón México:geo:0,0
END:VEVENT
BEGIN:VTIMEZONE
TZID:America/Mexico_City
X-LIC-LOCATION:America/Mexico_City
BEGIN:STANDARD
DTSTART:20250827T100000
TZOFFSETFROM:-0600
TZOFFSETTO:-0600
TZNAME:CST
END:STANDARD
END:VTIMEZONE
END:VCALENDAR