BEGIN:VCALENDAR
VERSION:2.0
PRODID:-//wp-events-plugin.com//6.6.4.4//EN
TZID:America/Mexico_City
X-WR-TIMEZONE:America/Mexico_City
BEGIN:VEVENT
UID:224@expoguadalajara.mx
DTSTART;TZID=America/Mexico_City:20260819T100000
DTEND;TZID=America/Mexico_City:20260822T200000
DTSTAMP:20260310T174716Z
URL:https://expoguadalajara.mx/events/expo-mueble-internacional-de-verano-
 3/
SUMMARY:Expo Mueble Internacional de Verano
DESCRIPTION:\n\n\n\nEXPO MUEBLE INTERNACIONAL DE VERANO\n\nEdición de vera
 no. Expo Mueble Internacional es la feria líder de mobiliario y decoraci
 ón en América Latina\; el lugar perfecto para descubrir las tendencias e
 n diseño\, decoración\, iluminación\, accesorios y más. Reuniendo a co
 mpradores profesionales\, fabricantes y comercializadores internacionales.
 \nDetalles\n\n\n\n\nHorario\nSitio Web\nNúmero de contacto\n\n\nDe 10:00 
 a.m. a 8:00 p.m.\nexpomuebleinternacional.com.mx\n33 3343 3400\n\n\nEmail\
 nRedes Sociales\nAdmisión a menores\n\n\ninformes@afamjal.com.mx\n\n| FB 
 | IG | X | IN |\nEvento para mayores de edad. NO se permite el acceso con 
 ropa deportiva.\nLa toma de fotografías está restringida al reglamento d
 e cada expositor. NO se permiten mascotas. NO carriolas.\n\n\n\n
ATTACH;FMTTYPE=image/jpeg:https://expoguadalajara.mx/wp-content/uploads/20
 25/12/Banners-MUEBLE-370x250px-1.jpg
CATEGORIES:Exposiciones
LOCATION:Evento de recinto\, Av. Mariano Otero 1499\, Verde Valle\, 44550\,
  Guadalajara\, México
X-APPLE-STRUCTURED-LOCATION;VALUE=URI;X-ADDRESS=Av. Mariano Otero 1499\, Ve
 rde Valle\, 44550\, Guadalajara\, México;X-APPLE-RADIUS=100;X-TITLE=Event
 o de recinto:geo:0,0
END:VEVENT
BEGIN:VTIMEZONE
TZID:America/Mexico_City
X-LIC-LOCATION:America/Mexico_City
BEGIN:STANDARD
DTSTART:20250819T100000
TZOFFSETFROM:-0600
TZOFFSETTO:-0600
TZNAME:CST
END:STANDARD
END:VTIMEZONE
END:VCALENDAR