BEGIN:VCALENDAR
VERSION:2.0
PRODID:-//wp-events-plugin.com//6.6.4.4//EN
TZID:America/Mexico_City
X-WR-TIMEZONE:America/Mexico_City
BEGIN:VEVENT
UID:231@expoguadalajara.mx
DTSTART;TZID=America/Mexico_City:20260903T100000
DTEND;TZID=America/Mexico_City:20260905T200000
DTSTAMP:20260310T175534Z
URL:https://expoguadalajara.mx/events/expo-nacional-ferretera-4/
SUMMARY:Expo Nacional Ferretera
DESCRIPTION:\n\n\n\nEXPO NACIONAL FERRETERA\n\nExpo Nacional Ferretera es e
 l evento más importante de Latinoamérica para hacer negocios en la indus
 tria ferretera y de la construcción.\nDetalles\n\n\n\n\nHorario\nSitio We
 b\nNúmero de contacto\nLink de registro\n\n\n3 y 4 de septiembre de 10:00
  a.m. a 8:00 p.m.\n\n5 de septiembre de 10:00 a.m. a 6:00 p.m.\nexpoferret
 era.com\,mx\n55 7958 9384\nevento/registro.com.mx\n\n\nEmail\nRedes Social
 es\nAdmisión a menores de edad\nCosto de ingreso\n\n\ninfo@expoferretera.
 com.mx\n\n| FB | IG | X | IN |\n\nEvento para mayores de edad\nSin registr
 o previo $300 p/p\n\n\n\n
ATTACH;FMTTYPE=image/jpeg:https://expoguadalajara.mx/wp-content/uploads/20
 25/12/Banners-FERRETERA-370x250px.jpg
CATEGORIES:Exposiciones
LOCATION:Evento de recinto\, Av. Mariano Otero 1499\, Verde Valle\, 44550\,
  Guadalajara\, México
X-APPLE-STRUCTURED-LOCATION;VALUE=URI;X-ADDRESS=Av. Mariano Otero 1499\, Ve
 rde Valle\, 44550\, Guadalajara\, México;X-APPLE-RADIUS=100;X-TITLE=Event
 o de recinto:geo:0,0
END:VEVENT
BEGIN:VTIMEZONE
TZID:America/Mexico_City
X-LIC-LOCATION:America/Mexico_City
BEGIN:STANDARD
DTSTART:20250903T100000
TZOFFSETFROM:-0600
TZOFFSETTO:-0600
TZNAME:CST
END:STANDARD
END:VTIMEZONE
END:VCALENDAR