BEGIN:VCALENDAR
VERSION:2.0
PRODID:-//wp-events-plugin.com//6.6.4.4//EN
TZID:America/Mexico_City
X-WR-TIMEZONE:America/Mexico_City
BEGIN:VEVENT
UID:397@expoguadalajara.mx
DTSTART;TZID=America/Mexico_City:20261118T110000
DTEND;TZID=America/Mexico_City:20261120T180000
DTSTAMP:20260310T190556Z
URL:https://expoguadalajara.mx/events/expo-reciclables-2026/
SUMMARY:Expo Reciclables 2026
DESCRIPTION:\n\n\n\nEXPO RECICLABLES 2026\n\nEl encuentro industrial de rec
 iclaje más importante de México.\nDetalles\n\n\n\n\nHorario\nPágina web
 \nRedes Sociales\n\n\nDe 11:00 am a 6:00 pm\nexporeciclables.com\n| FB | I
 G |\n\n\nNúmero de Contacto\nEmail\nAdmisión a menores de edad\n\n\n5640
 02960\nn.decomercial@grupo-fir.com\nEvento para mayores de edad.\n\n\nLink
  de registro\nCosto de ingreso\n\n\n\n\nexporeciclables/visitantes.com\nAc
 ceso gratuito con registro\n\n\n\n\n
ATTACH;FMTTYPE=image/jpeg:https://expoguadalajara.mx/wp-content/uploads/20
 26/03/Banner-Reciclables-250x370px.jpg
CATEGORIES:Exposiciones
LOCATION:Salón Jalisco A y B\, Av. Mariano Otero #1499 Col. Verde Valle\, 
 Guadalajara\, Jalisco\, México.\, México
X-APPLE-STRUCTURED-LOCATION;VALUE=URI;X-ADDRESS=Av. Mariano Otero #1499 Col
 . Verde Valle\, Guadalajara\, Jalisco\, México.\, México;X-APPLE-RADIUS=
 100;X-TITLE=Salón Jalisco A y B:geo:0,0
END:VEVENT
BEGIN:VTIMEZONE
TZID:America/Mexico_City
X-LIC-LOCATION:America/Mexico_City
BEGIN:STANDARD
DTSTART:20251118T110000
TZOFFSETFROM:-0600
TZOFFSETTO:-0600
TZNAME:CST
END:STANDARD
END:VTIMEZONE
END:VCALENDAR