BEGIN:VCALENDAR
VERSION:2.0
PRODID:-//wp-events-plugin.com//6.6.4.4//EN
TZID:America/Mexico_City
X-WR-TIMEZONE:America/Mexico_City
BEGIN:VEVENT
UID:370@expoguadalajara.mx
DTSTART;TZID=America/Mexico_City:20261110T160000
DTEND;TZID=America/Mexico_City:20261110T203000
DTSTAMP:20260318T185436Z
URL:https://expoguadalajara.mx/events/feria-europosgrados/
SUMMARY:Feria EuroPosgrados
DESCRIPTION:\n\n\n\nFERIA EUROPOSGRADOS\nLa Feria EuroPosgrados es un espac
 io de orientación y conexión donde los estudiantes pueden descubrir prog
 ramas de posgrado\, recibir asesoría especializada e información clave s
 obre programas de estudio\, requisitos\, idiomas\, procesos de aplicación
  y todo lo necesario para planear una experiencia académica internacional
 .\n\nEuroPosgrados es una iniciativa pública respaldada por embajadas y o
 rganismos oficiales de diversos países europeos\, como el DAAD (Alemania)
 \, SEPIE (España)\, Campus France México\, Study in Sweden y la Delegaci
 ón de la Unión Europea en México\, que reúne en un solo lugar las mejo
 res oportunidades académicas en Europa.\n\nDetalles\n\n\n\nHorario\nPági
 na Web\nRedes Sociales\nEmail\n\n\n4:00 pm a 8:30 pm\neuroposgrados.org\n|
  FB | IG |\ninfo@europosgrados.org\n\n\nAdmisión a menores de edad\nLink 
 de registro\nCosto de ingreso\n\n\n\n\n\nEntrada libre\n\n\n\n\n\n\n
ATTACH;FMTTYPE=image/jpeg:https://expoguadalajara.mx/wp-content/uploads/20
 26/02/Master-370x250-1.png
CATEGORIES:Exposiciones
LOCATION:Salones regionales\, Av. Mariano Otero #1499 Colonia Verde Valle -
  Guadalajara\, Jalisco Méx\, JAL\, Jalisco\, 44550\, Jalisco\, México
X-APPLE-STRUCTURED-LOCATION;VALUE=URI;X-ADDRESS=Av. Mariano Otero #1499 Col
 onia Verde Valle - Guadalajara\, Jalisco Méx\, JAL\, Jalisco\, 44550\, Ja
 lisco\, México;X-APPLE-RADIUS=100;X-TITLE=Salones regionales:geo:0,0
END:VEVENT
BEGIN:VTIMEZONE
TZID:America/Mexico_City
X-LIC-LOCATION:America/Mexico_City
BEGIN:STANDARD
DTSTART:20251110T160000
TZOFFSETFROM:-0600
TZOFFSETTO:-0600
TZNAME:CST
END:STANDARD
END:VTIMEZONE
END:VCALENDAR