BEGIN:VCALENDAR
VERSION:2.0
PRODID:-//wp-events-plugin.com//6.6.4.4//EN
TZID:America/Mexico_City
X-WR-TIMEZONE:America/Mexico_City
BEGIN:VEVENT
UID:285@expoguadalajara.mx
DTSTART;TZID=America/Mexico_City:20261128T090000
DTEND;TZID=America/Mexico_City:20261206T210000
DTSTAMP:20260310T182958Z
URL:https://expoguadalajara.mx/events/feria-internacional-del-libro-de-gua
 dalajara-4/
SUMMARY:Feria Internacional del Libro de Guadalajara
DESCRIPTION:\n\n\n\nFERIA INTERNACIONAL DEL LIBRO DE GUADALAJARA\n\nEl even
 to anual más importante de su tipo en el mundo de habla hispana. Profesio
 nales del libro\, expositores y asistentes convergen en un ambiente de neg
 ocios óptimo\, y a un público lector ávido de conocer a sus autores y a
 dquirir las novedades más recientes.\nDetalles\n\n\n\n\nHorario\nPágina 
 web\nNúmero de contacto\nLink de registro\n\n\nPúblico en general:\n29 y
  30 de noviembre\, 4\, 5\, 6 y 7 de diciembre\, de 9:00 a 21:00 horas*\n1\
 , 2 y 3 de diciembre\, de 16:00 a 21:00 horas\n5 de diciembre\, de 9:00 a 
 23:00 horas\nEl viernes 5 de diciembre el horario se extiende hasta las 23
 :00 horas por nuestra venta nocturna.\nExclusivo profesionales:\n1\, 2 y 3
  de diciembre\, de 9:00 a 17:00 horas\nfil.com.mx\n(+52) 33 3810 0331 y (+
 52) 33 3628 0900\n\n\n\nEmail\nRedes Sociales\nAdmisión a menores de edad
 \nCosto de ingreso\n\n\nfil@fil.com.mx\n\n| FB | IG | IN |\n\nEvento para 
 toda la familia\nAdultos:  $30.00 pesos\nMenores de 3 a 12 años\, person
 as de la tercera edad con credencial del INAPAM\, personas con discapacida
 d\, estudiantes\, maestros y miembros de la Fundación Universidad de Guad
 alajara que presenten su credencial:  $25.00 pesos\nEstudiantes UdeG con 
 credencial vigente:  $20.00 pesos\n\n\n\n
ATTACH;FMTTYPE=image/jpeg:https://expoguadalajara.mx/wp-content/uploads/20
 25/12/Banners-FIL-370x250px.jpg
CATEGORIES:Exposiciones
LOCATION:Evento de recinto\, Av. Mariano Otero 1499\, Verde Valle\, 44550\,
  Guadalajara\, México
X-APPLE-STRUCTURED-LOCATION;VALUE=URI;X-ADDRESS=Av. Mariano Otero 1499\, Ve
 rde Valle\, 44550\, Guadalajara\, México;X-APPLE-RADIUS=100;X-TITLE=Event
 o de recinto:geo:0,0
END:VEVENT
BEGIN:VTIMEZONE
TZID:America/Mexico_City
X-LIC-LOCATION:America/Mexico_City
BEGIN:STANDARD
DTSTART:20251128T090000
TZOFFSETFROM:-0600
TZOFFSETTO:-0600
TZNAME:CST
END:STANDARD
END:VTIMEZONE
END:VCALENDAR