BEGIN:VCALENDAR
VERSION:2.0
PRODID:-//wp-events-plugin.com//6.6.4.4//EN
TZID:America/Mexico_City
X-WR-TIMEZONE:America/Mexico_City
BEGIN:VEVENT
UID:281@expoguadalajara.mx
DTSTART;TZID=America/Mexico_City:20261001T100000
DTEND;TZID=America/Mexico_City:20261003T190000
DTSTAMP:20260310T174502Z
URL:https://expoguadalajara.mx/events/festival-del-adulto-mayor-4/
SUMMARY:Festival del Adulto Mayor
DESCRIPTION:\n\n\n\nFESTIVAL DEL ADULTO MAYOR\n\nUn evento único de bienes
 tar y entretenimiento para los Adultos Mayores de 50 años y más.\nDetall
 es\n\n\n\n\nHorario\nPágina Web\nTeléfono\nLink de Registro\n\n\nDe 10:0
 0 am a 7:00 pm\nfestivaldeladultomayor.com\n55 9000 8999\nfestivaldeladult
 omayor/registro.com\n\n\nEmail\nRedes Sociales\nAdmisión a menores de eda
 d\nCosto de ingreso\n\n\ncontacto@festivaldeladultomayor.com\n\n| FB | IG 
 |\nEvento para toda la familia\nEntrada con registro\n\n\n\n\n\n\n\n\n\n\n
ATTACH;FMTTYPE=image/jpeg:https://expoguadalajara.mx/wp-content/uploads/20
 25/12/Banners-ADULTO-370x250px.jpg
CATEGORIES:Exposiciones
LOCATION:Salón Jalisco B\, Av. Mariano Otero #1499 Col. Verde Valle\, Guad
 alajara\, Jalisco\, México\, México
X-APPLE-STRUCTURED-LOCATION;VALUE=URI;X-ADDRESS=Av. Mariano Otero #1499 Col
 . Verde Valle\, Guadalajara\, Jalisco\, México\, México;X-APPLE-RADIUS=1
 00;X-TITLE=Salón Jalisco B:geo:0,0
END:VEVENT
BEGIN:VTIMEZONE
TZID:America/Mexico_City
X-LIC-LOCATION:America/Mexico_City
BEGIN:STANDARD
DTSTART:20251001T100000
TZOFFSETFROM:-0600
TZOFFSETTO:-0600
TZNAME:CST
END:STANDARD
END:VTIMEZONE
END:VCALENDAR