BEGIN:VCALENDAR
VERSION:2.0
PRODID:-//wp-events-plugin.com//6.6.4.4//EN
TZID:America/Mexico_City
X-WR-TIMEZONE:America/Mexico_City
BEGIN:VEVENT
UID:278@expoguadalajara.mx
DTSTART;TZID=America/Mexico_City:20261021T100000
DTEND;TZID=America/Mexico_City:20261023T190000
DTSTAMP:20260220T173857Z
URL:https://expoguadalajara.mx/events/figap/
SUMMARY:FIGAP
DESCRIPTION:\n\n\n\nFIGAP\n\nEn FIGAP encontrarás los más importantes exp
 ositores como fabricantes de maquinaria para la industria de los alimentos
  balanceados\, equipos agropecuarios\, salud animal\, genética\, nutrici
 ón\, software pecuario\, fabricantes internacionales de silos metálicos 
 para el almacenamiento de granos y semillas\, fabricante de alimentos bala
 nceados y forraje\, fabricante de alimento para mascotas (pet food)\, empr
 esas acuícolas\, distribuidores de ingredientes y aditivo\, así como emp
 resas de trasportes\, entre otros.\nDetalles\n\n\n\n\nHorario\nPágina web
 \nNúmero de Contacto\nLink de registro\n\n\n10:00 am a 7:00 pm\nfigap.com
 \n33 3641 8119\nfigap.com\n\n\nEmail\nRedes Sociales\nAdmisión a menores 
 de edad\n\n\n\ninfo@figap.com\n\n| FB | IG | X | IN |\n\nEvento para mayor
 es de edad.\n\n\n\n\n
ATTACH;FMTTYPE=image/jpeg:https://expoguadalajara.mx/wp-content/uploads/20
 25/12/Banners-FIGAP-370x250px.jpg
CATEGORIES:Exposiciones
LOCATION:Salón Jalisco B y C\, Av. Mariano Otero 1499\, Verde Valle\, 4455
 0\, Guadalajara\, Jalisco\, México\, México
X-APPLE-STRUCTURED-LOCATION;VALUE=URI;X-ADDRESS=Av. Mariano Otero 1499\, Ve
 rde Valle\, 44550\, Guadalajara\, Jalisco\, México\, México;X-APPLE-RADI
 US=100;X-TITLE=Salón Jalisco B y C:geo:0,0
END:VEVENT
BEGIN:VTIMEZONE
TZID:America/Mexico_City
X-LIC-LOCATION:America/Mexico_City
BEGIN:STANDARD
DTSTART:20251021T100000
TZOFFSETFROM:-0600
TZOFFSETTO:-0600
TZNAME:CST
END:STANDARD
END:VTIMEZONE
END:VCALENDAR