BEGIN:VCALENDAR
VERSION:2.0
PRODID:-//wp-events-plugin.com//6.6.4.4//EN
TZID:America/Mexico_City
X-WR-TIMEZONE:America/Mexico_City
BEGIN:VEVENT
UID:403@expoguadalajara.mx
DTSTART;TZID=America/Mexico_City:20260725T100000
DTEND;TZID=America/Mexico_City:20260725T180000
DTSTAMP:20260327T170702Z
URL:https://expoguadalajara.mx/events/fit-weekend-fest/
SUMMARY:Fit Weekend Fest
DESCRIPTION:\n\n\n\nFIT WEEKEND FEST\n\nFestival que reúne a la comunidad 
 fitness\, donde participan atletas\, entrenadores\, creadores de contenido
  y profesionales del sector\, quienes buscan conectar con marcas\, entrena
 r y aprender en un entorno de bienestar.\nDetalles\n\n\n\n\nHorario\nWeb\n
 Email\n\n\n\n\nDe 10:00 am a 6:00 pm\nthefitweekend.com\ncontacto@thefitwe
 ekend.com\n\n\n\n\nRedes Sociales\nAdmisión a menores de edad\n\n\n\n\n\n
 \n| FB | IG |\nEvento para mayores de edad.\n\n\n\n\n\n\n\n
ATTACH;FMTTYPE=image/jpeg:https://expoguadalajara.mx/wp-content/uploads/20
 26/03/Banner-FitWeekend-370x250-px.jpg
CATEGORIES:Exposiciones
LOCATION:Foro Expo\, Av. Mariano Otero 1499\, Verde Valle\, 44550\, Guadala
 jara\, México
X-APPLE-STRUCTURED-LOCATION;VALUE=URI;X-ADDRESS=Av. Mariano Otero 1499\, Ve
 rde Valle\, 44550\, Guadalajara\, México;X-APPLE-RADIUS=100;X-TITLE=Foro 
 Expo:geo:0,0
END:VEVENT
BEGIN:VTIMEZONE
TZID:America/Mexico_City
X-LIC-LOCATION:America/Mexico_City
BEGIN:STANDARD
DTSTART:20250725T100000
TZOFFSETFROM:-0600
TZOFFSETTO:-0600
TZNAME:CST
END:STANDARD
END:VTIMEZONE
END:VCALENDAR