BEGIN:VCALENDAR
VERSION:2.0
PRODID:-//wp-events-plugin.com//6.6.4.4//EN
TZID:America/Mexico_City
X-WR-TIMEZONE:America/Mexico_City
BEGIN:VEVENT
UID:336@expoguadalajara.mx
DTSTART;TZID=America/Mexico_City;VALUE=DATE:20260715
DTEND;TZID=America/Mexico_City;VALUE=DATE:20260718
DTSTAMP:20260325T213752Z
URL:https://expoguadalajara.mx/events/foro-mascotas-pet-food-2026/
SUMMARY:Foro Mascotas Pet Food 2026
DESCRIPTION:\n\n\n\nForo Mascotas Pet Food 2026\n\nEncuentro especializado 
 que reúne a fabricantes\, distribuidores\, proveedores\, médicos veterin
 arios y profesionales del sector de alimentos para mascotas. El programa a
 borda tendencias de mercado\, innovación en nutrición animal\, regulaci
 ón\, etiquetado\, sustentabilidad y desarrollo de nuevos productos.\nDeta
 lles\n\n\n\n\nHorario\nPágina Web\n\n\n\n\n\nHorario pendiente.\nforomasc
 otas.mx\n\n\n\n\n\nNúmero de contacto\nEmail\n\n\n\n\n\n55 8078 9359\ninf
 o@foromascotas.mx\n\n\n\n\n\n\n\n\n\n\n\n\n\n
ATTACH;FMTTYPE=image/jpeg:https://expoguadalajara.mx/wp-content/uploads/20
 25/12/Banners-MASCOTAS-370x250px.jpg
CATEGORIES:Congresos
LOCATION:Salón México\, Av. Mariano Otero 1499\, Verde Valle\, 44550\, Gu
 adalajara\, Jalisco\, México\, México
X-APPLE-STRUCTURED-LOCATION;VALUE=URI;X-ADDRESS=Av. Mariano Otero 1499\, Ve
 rde Valle\, 44550\, Guadalajara\, Jalisco\, México\, México;X-APPLE-RADI
 US=100;X-TITLE=Salón México:geo:0,0
END:VEVENT
BEGIN:VTIMEZONE
TZID:America/Mexico_City
X-LIC-LOCATION:America/Mexico_City
BEGIN:STANDARD
DTSTART:20250715T000000
TZOFFSETFROM:-0600
TZOFFSETTO:-0600
TZNAME:CST
END:STANDARD
END:VTIMEZONE
END:VCALENDAR