BEGIN:VCALENDAR
VERSION:2.0
PRODID:-//wp-events-plugin.com//6.6.4.4//EN
TZID:America/Mexico_City
X-WR-TIMEZONE:America/Mexico_City
BEGIN:VEVENT
UID:205@expoguadalajara.mx
DTSTART;TZID=America/Mexico_City:20260227T100000
DTEND;TZID=America/Mexico_City:20260228T200000
DTSTAMP:20260216T192404Z
URL:https://expoguadalajara.mx/events/global-fx-2/
SUMMARY:FX EXPO GLOBAL
DESCRIPTION:\n\n\n\nFX EXPO GLOBAL\n\nEs un evento internacional que reúne
  a los principales actores del mercado financiero\, incluyendo Brokers de 
 Forex\, Derivados e Índices Sintéticos\, Plataformas de Trading\, Empres
 as de Fondeo\, Exchanges\, Academias de Trading\, Proveedores de Liquidez 
 y Tecnología\, Pasarelas de Pago\, Service Providers\, Marketing Solution
 s\, Medios Especializados y mucho más. En este espacio\, traders\, invers
 ores y entusiastas encuentran las últimas tendencias\, herramientas y opo
 rtunidades para potenciar sus estrategias\, establecer conexiones y expand
 ir su presencia en el mundo del trading y las finanzas.\nDetalles\n\n\n\n\
 nHorario\nSitio Web\nRedes Sociales\nNúmero de Contacto\n\n\n\nDe 10:00 a
 m a 8:00 pm\n\n\n\n\n\nfxexpoglobal.com\n\n\n\n\n| IG | FB | X | IN |\n(97
 1) 585911775\n\n\n\nEmail\nRegistro\nCosto por ingreso\nAdmisión a menore
 s\n\n\n\ncontact@fxexpoglobal.com\n\nfxexpoglobal/registro\nEntrada genera
 l gratuita y entrada VIP con costo de $150 USD\n\n\n\n\n\n\n\n\n\n\n\n\n
ATTACH;FMTTYPE=image/jpeg:https://expoguadalajara.mx/wp-content/uploads/20
 25/12/Banners-370x250-1.jpg
CATEGORIES:Exposiciones
LOCATION:Salón de Eventos\, Av. Mariano Otero #1499 Col. Verde Valle\, Gua
 dalajara\, Jalisco\, México\, México
X-APPLE-STRUCTURED-LOCATION;VALUE=URI;X-ADDRESS=Av. Mariano Otero #1499 Col
 . Verde Valle\, Guadalajara\, Jalisco\, México\, México;X-APPLE-RADIUS=1
 00;X-TITLE=Salón de Eventos:geo:0,0
END:VEVENT
BEGIN:VTIMEZONE
TZID:America/Mexico_City
X-LIC-LOCATION:America/Mexico_City
BEGIN:STANDARD
DTSTART:20250227T100000
TZOFFSETFROM:-0600
TZOFFSETTO:-0600
TZNAME:CST
END:STANDARD
END:VTIMEZONE
END:VCALENDAR