BEGIN:VCALENDAR
VERSION:2.0
PRODID:-//wp-events-plugin.com//6.6.4.4//EN
TZID:America/Mexico_City
X-WR-TIMEZONE:America/Mexico_City
BEGIN:VEVENT
UID:235@expoguadalajara.mx
DTSTART;TZID=America/Mexico_City:20260924T110000
DTEND;TZID=America/Mexico_City:20260926T210000
DTSTAMP:20260310T174202Z
URL:https://expoguadalajara.mx/events/greater-aric-dental-5/
SUMMARY:Greater Aric Dental
DESCRIPTION:\n\n\n\nGREATER ARIC DENTAL\n\nEl Evento Odontológico de Mayor
  Calidad en toda Latinoamérica.\nDetalles\n\n\n\n\nHorario\nSitio Web\nN
 úmero de contacto\nLink de Registro\n\n\nDe 11:00 am a 09:00 pm\nexpoaric
 dental.com\n33 4387 7314\nexpoaricdental.com\n\n\nEmail\nRedes Sociales\nA
 dmisión a menores de edad\nCosto de Ingreso\n\n\ninfo@expoaricdental.com\
 n\n| FB | IG |\n\nEvento para mayores de edad\, incluyendo estudiantes uni
 versitarios\nEvento sin costo\n\n\n\n
ATTACH;FMTTYPE=image/jpeg:https://expoguadalajara.mx/wp-content/uploads/20
 25/12/Banners-GREATHER-370x250px.jpg
CATEGORIES:Exposiciones
LOCATION:Salón Guadalajara\, Av. Mariano Otero 1499\, Verde Valle\, 44550\
 , Guadalajara\, México
X-APPLE-STRUCTURED-LOCATION;VALUE=URI;X-ADDRESS=Av. Mariano Otero 1499\, Ve
 rde Valle\, 44550\, Guadalajara\, México;X-APPLE-RADIUS=100;X-TITLE=Saló
 n Guadalajara:geo:0,0
END:VEVENT
BEGIN:VTIMEZONE
TZID:America/Mexico_City
X-LIC-LOCATION:America/Mexico_City
BEGIN:STANDARD
DTSTART:20250924T110000
TZOFFSETFROM:-0600
TZOFFSETTO:-0600
TZNAME:CST
END:STANDARD
END:VTIMEZONE
END:VCALENDAR