BEGIN:VCALENDAR
VERSION:2.0
PRODID:-//wp-events-plugin.com//6.6.4.4//EN
TZID:America/Mexico_City
X-WR-TIMEZONE:America/Mexico_City
BEGIN:VEVENT
UID:332@expoguadalajara.mx
DTSTART;TZID=America/Mexico_City;VALUE=DATE:20260523
DTEND;TZID=America/Mexico_City;VALUE=DATE:20260530
DTSTAMP:20260309T232433Z
URL:https://expoguadalajara.mx/events/icold-2026-94nd-annual-meeting-inter
 national-commission-on-large-dams/
SUMMARY:ICOLD 2026 - 94nd Annual Meeting International Commission on Large 
 Dams
DESCRIPTION:\n\nICOLD 2026 - 94nd Annual Meeting International Commission o
 n Large Dams\n\n\n\nEs el encuentro anual de la International Commission o
 n Large Dams\, que reúne a ingenieros\, especialistas\, autoridades y emp
 resas del sector hidráulico de todo el mundo. El programa contempla sesio
 nes técnicas\, comités especializados y una exposición comercial enfoca
 da en diseño\, construcción\, operación\, seguridad y mantenimiento de 
 grandes presas\, así como en innovación tecnológica y gestión sostenib
 le del recurso hídrico.\nDetalles\n\n\n\n\nHorario\nPágina Web\nEmail\nN
 úmero de contacto\n\n\n\nHorario pendiente.\nicoldmexico2026.com\ncaguirr
 e@tycgroup.com\n55 5148 7511\n\n\n\n\n\n\n\n\n\n\n\n\n\n\n\n\n\n\n\n\n\n\n
 \n\n\n
ATTACH;FMTTYPE=image/jpeg:https://expoguadalajara.mx/wp-content/uploads/20
 25/12/Banner-ICold-370x250px.jpg
CATEGORIES:Congresos
LOCATION:Salón Guadalajara\, Salón de Eventos y Regionales\, Av. Mariano 
 Otero #1499 Colonia Verde Valle - Guadalajara\, Jalisco Méx\, JAL\, Jalis
 co\, 44550\, Jalisco\, México
X-APPLE-STRUCTURED-LOCATION;VALUE=URI;X-ADDRESS=Av. Mariano Otero #1499 Col
 onia Verde Valle - Guadalajara\, Jalisco Méx\, JAL\, Jalisco\, 44550\, Ja
 lisco\, México;X-APPLE-RADIUS=100;X-TITLE=Salón Guadalajara\, Salón de 
 Eventos y Regionales:geo:0,0
END:VEVENT
BEGIN:VTIMEZONE
TZID:America/Mexico_City
X-LIC-LOCATION:America/Mexico_City
BEGIN:STANDARD
DTSTART:20250523T000000
TZOFFSETFROM:-0600
TZOFFSETTO:-0600
TZNAME:CST
END:STANDARD
END:VTIMEZONE
END:VCALENDAR