BEGIN:VCALENDAR
VERSION:2.0
PRODID:-//wp-events-plugin.com//6.6.4.4//EN
TZID:America/Mexico_City
X-WR-TIMEZONE:America/Mexico_City
BEGIN:VEVENT
UID:222@expoguadalajara.mx
DTSTART;TZID=America/Mexico_City:20260721T090000
DTEND;TZID=America/Mexico_City:20260724T200000
DTSTAMP:20260324T194049Z
URL:https://expoguadalajara.mx/events/intermoda-2/
SUMMARY:Intermoda
DESCRIPTION:\n\n\n\nINTERMODA\n\nLa exposición de negocios de moda más gr
 ande de Latinoamérica\, que reúne a los mejores fabricantes\, diseñador
 es\, distribuidores y compradores nacionales e internacionales.\nDetalles\
 n\n\n\n\nHorario\nWeb\nNúmero de Contacto\nLink de Registro\n\n\n\nDel 21
  al 23 de julio de 9:00 a.m. a 8:00 p.m.\n24 de julio de 9:00 a.m. a 5:00 
 p.m.\nim.com.mx\n(33) 2784 8663  Ext. 234\nim/registro.com\n\n\n\nEmail\n
 Redes Sociales\nAdmisión a menores de edad\n\n\n\n\nexpositores@intermoda
 .com.mx\n\n| FB | IG | X |\nEvento para mayores de edad.\n\n\n\n\n\n\n
ATTACH;FMTTYPE=image/jpeg:https://expoguadalajara.mx/wp-content/uploads/20
 25/12/Banners-250x370-px.jpg
CATEGORIES:Exposiciones
LOCATION:Evento de recinto\, Av. Mariano Otero 1499\, Verde Valle\, 44550\,
  Guadalajara\, México
X-APPLE-STRUCTURED-LOCATION;VALUE=URI;X-ADDRESS=Av. Mariano Otero 1499\, Ve
 rde Valle\, 44550\, Guadalajara\, México;X-APPLE-RADIUS=100;X-TITLE=Event
 o de recinto:geo:0,0
END:VEVENT
BEGIN:VTIMEZONE
TZID:America/Mexico_City
X-LIC-LOCATION:America/Mexico_City
BEGIN:STANDARD
DTSTART:20250721T090000
TZOFFSETFROM:-0600
TZOFFSETTO:-0600
TZNAME:CST
END:STANDARD
END:VTIMEZONE
END:VCALENDAR