BEGIN:VCALENDAR
VERSION:2.0
PRODID:-//wp-events-plugin.com//6.6.4.4//EN
TZID:America/Mexico_City
X-WR-TIMEZONE:America/Mexico_City
BEGIN:VEVENT
UID:197@expoguadalajara.mx
DTSTART;TZID=America/Mexico_City:20260120T090000
DTEND;TZID=America/Mexico_City:20260123T200000
DTSTAMP:20260115T184643Z
URL:https://expoguadalajara.mx/events/intermoda-enero/
SUMMARY:INTERMODA
DESCRIPTION:\n\n\n\nINTERMODA ENERO\n\nLa exposición de negocios de moda m
 ás grande de Latinoamérica\, que reúne a los mejores fabricantes\, dise
 ñadores\, distribuidores y compradores nacionales e internacionales.\nDet
 alles\n\n\n\n\nSitio Web\nNúmero de contacto\nRedes sociales\nLink de reg
 istro\n\n\n\nIM.com\n(33) 3121 4499 ext. 238 / Whatsapp: 3311973379\n| IG
  | FB | X |\nhttps://intermoda.com.mx/pages/registro\n\n\n\nAdmisión de m
 enores de edad\nHorario\nEmail\n\n\n\n\nEvento para mayores de edad\nDel 2
 0 al 22 de enero de 9:00 a.m. a 8:00 p.m.\n23 de enero de 9:00 a.m. a 5:00
  p.m.\ncomercial@intermoda.com.mx\n\n\n\n\n\n\n\n\n\n\n\n\n
ATTACH;FMTTYPE=image/jpeg:https://expoguadalajara.mx/wp-content/uploads/20
 25/12/Banners-370X250px-IM.jpg
CATEGORIES:Exposiciones
LOCATION:Evento de recinto\, Av. Mariano Otero 1499\, Verde Valle\, 44550\,
  Guadalajara\, México
X-APPLE-STRUCTURED-LOCATION;VALUE=URI;X-ADDRESS=Av. Mariano Otero 1499\, Ve
 rde Valle\, 44550\, Guadalajara\, México;X-APPLE-RADIUS=100;X-TITLE=Event
 o de recinto:geo:0,0
END:VEVENT
BEGIN:VTIMEZONE
TZID:America/Mexico_City
X-LIC-LOCATION:America/Mexico_City
BEGIN:STANDARD
DTSTART:20250120T090000
TZOFFSETFROM:-0600
TZOFFSETTO:-0600
TZNAME:CST
END:STANDARD
END:VTIMEZONE
END:VCALENDAR