BEGIN:VCALENDAR
VERSION:2.0
PRODID:-//wp-events-plugin.com//6.6.4.4//EN
TZID:America/Mexico_City
X-WR-TIMEZONE:America/Mexico_City
BEGIN:VEVENT
UID:44@expoguadalajara.mx
DTSTART;TZID=America/Mexico_City:20250715T090000
DTEND;TZID=America/Mexico_City:20250718T200000
DTSTAMP:20250702T234339Z
URL:https://expoguadalajara.mx/events/intermoda-julio/
SUMMARY:INTERMODA
DESCRIPTION:INTERMODA\nLa exposición de negocios de moda más grande de La
 tinoamérica\, que reúne a los mejores fabricantes\, diseñadores\, distr
 ibuidores y compradores nacionales e internacionales.\nDetalles\n\n\n\n\nS
 itio Web\nintermoda.com.mx\n\nTeléfono\n(33) 3121 4499 ext. 238\nCorreo\n
 comercial@intermoda.com.mx\nWhatsapp\n3311973379\n\nHorario\n15 al 17 de j
 ulio de 9:00 a 20:00 hrs\n18 de julio de 9:00 a 17:00 hrs\n\n\nFacebook\nI
 r al perfil\nInstagram\nIr al perfil\nLink de registro\nIr al sitio\nAdmis
 ión de menores de edad\nEvento para mayores de edad\n\n\n\n
ATTACH;FMTTYPE=image/jpeg:https://expoguadalajara.mx/wp-content/uploads/20
 25/03/BANNER-INTERMODA_EXPO-GUADALAJARA_572-x-334-px.png
CATEGORIES:Exposiciones
LOCATION:Evento de recinto\, Av. Mariano Otero 1499\, Verde Valle\, 44550\,
  Guadalajara\, México
X-APPLE-STRUCTURED-LOCATION;VALUE=URI;X-ADDRESS=Av. Mariano Otero 1499\, Ve
 rde Valle\, 44550\, Guadalajara\, México;X-APPLE-RADIUS=100;X-TITLE=Event
 o de recinto:geo:0,0
END:VEVENT
BEGIN:VTIMEZONE
TZID:America/Mexico_City
X-LIC-LOCATION:America/Mexico_City
BEGIN:STANDARD
DTSTART:20240715T090000
TZOFFSETFROM:-0600
TZOFFSETTO:-0600
TZNAME:CST
END:STANDARD
END:VTIMEZONE
END:VCALENDAR