BEGIN:VCALENDAR
VERSION:2.0
PRODID:-//wp-events-plugin.com//6.6.4.4//EN
TZID:America/Mexico_City
X-WR-TIMEZONE:America/Mexico_City
BEGIN:VEVENT
UID:308@expoguadalajara.mx
DTSTART;TZID=America/Mexico_City:20261110T100000
DTEND;TZID=America/Mexico_City:20261112T180000
DTSTAMP:20260310T182703Z
URL:https://expoguadalajara.mx/events/itb-americas/
SUMMARY:ITB Americas
DESCRIPTION:\n\n\n\nITB AMERICAS\n\nITB Americas es el evento que conectar
 á a todo el ecosistema de viajes y turismo de América del Norte\, Centro
 américa\, Sudamérica y el Caribe en un solo lugar. Aquí es donde\, por 
 primera vez en las Américas\, los actores clave más importantes\, los nu
 evos participantes y las empresas innovadoras de la industria turística s
 e reúnen.\n\nComo la feria líder del sector turístico\, ITB garantiza c
 alidad confiable\, alcance global y altos estándares. El objetivo de ITB 
 Americas no solo es dar continuidad a este legado\, sino también sentar l
 as bases para el futuro del turismo\, impulsando la innovación\, fomentan
 do las conexiones y dando forma al panorama turístico del mañana en la r
 egión\nDetalles\n\n\n\n\nHorario\nPágina web\nEmail\n\n\nDe 10:00 am a 6
 :00 pm\nitb.com\nitbamericas@messe-berlin.com\nbuyer@itb-americas.com\nexh
 ibitors@itb-americas.com\n\n\nAdmisión de menores de edad\nLink de regist
 ro\nCosto de ingreso\n\n\nEvento para mayores de edad.\n\nPor definir\nPor
  definir\n\n\n\n
ATTACH;FMTTYPE=image/jpeg:https://expoguadalajara.mx/wp-content/uploads/20
 25/12/Banners-370X250px-ITB.jpg
CATEGORIES:Exposiciones
LOCATION:Salón Jalisco\, Av. Mariano Otero #1499 Col. Verde Valle\, Guadal
 ajara\, Jalisco\, México\, México
X-APPLE-STRUCTURED-LOCATION;VALUE=URI;X-ADDRESS=Av. Mariano Otero #1499 Col
 . Verde Valle\, Guadalajara\, Jalisco\, México\, México;X-APPLE-RADIUS=1
 00;X-TITLE=Salón Jalisco:geo:0,0
END:VEVENT
BEGIN:VTIMEZONE
TZID:America/Mexico_City
X-LIC-LOCATION:America/Mexico_City
BEGIN:STANDARD
DTSTART:20251110T100000
TZOFFSETFROM:-0600
TZOFFSETTO:-0600
TZNAME:CST
END:STANDARD
END:VTIMEZONE
END:VCALENDAR