BEGIN:VCALENDAR
VERSION:2.0
PRODID:-//wp-events-plugin.com//6.6.4.4//EN
TZID:America/Mexico_City
X-WR-TIMEZONE:America/Mexico_City
BEGIN:VEVENT
UID:185@expoguadalajara.mx
DTSTART;TZID=America/Mexico_City:20251011T110000
DTEND;TZID=America/Mexico_City:20251012T200000
DTSTAMP:20251007T004730Z
URL:https://expoguadalajara.mx/events/k-fest/
SUMMARY:K-FEST
DESCRIPTION:K-Fest\n\n\n\nKfest está de vuelta\, un espacio para fans del 
 K-pop donde podrás divertirte\, convivir\, comprar y bailar al ritmo de t
 us canciones favoritas.\nDetalles\n\n\n\nPágina web\nNúmero\nCorreo\n\nR
 edes sociales \nAdmisión de menores\n\n\n\nIr al sitio\n+52 1 33 1942 487
 7\nkfest.gdl@gmail.com\nFB | IG |\nEvento para toda la familia.\n\n\n\n\n
ATTACH;FMTTYPE=image/jpeg:https://expoguadalajara.mx/wp-content/uploads/20
 25/08/Imagen-calendario-EVENTO-WEB-K-FEST-1.jpg
CATEGORIES:Exposiciones
LOCATION:Foro Expo\, Av. Mariano Otero 1499\, Verde Valle\, 44550\, Guadala
 jara\, México
X-APPLE-STRUCTURED-LOCATION;VALUE=URI;X-ADDRESS=Av. Mariano Otero 1499\, Ve
 rde Valle\, 44550\, Guadalajara\, México;X-APPLE-RADIUS=100;X-TITLE=Foro 
 Expo:geo:0,0
END:VEVENT
BEGIN:VTIMEZONE
TZID:America/Mexico_City
X-LIC-LOCATION:America/Mexico_City
BEGIN:STANDARD
DTSTART:20241011T110000
TZOFFSETFROM:-0600
TZOFFSETTO:-0600
TZNAME:CST
END:STANDARD
END:VTIMEZONE
END:VCALENDAR