BEGIN:VCALENDAR
VERSION:2.0
PRODID:-//wp-events-plugin.com//6.6.4.4//EN
TZID:America/Mexico_City
X-WR-TIMEZONE:America/Mexico_City
BEGIN:VEVENT
UID:27@expoguadalajara.mx
DTSTART;TZID=America/Mexico_City:20250517T110000
DTEND;TZID=America/Mexico_City:20250518T200000
DTSTAMP:20250516T165247Z
URL:https://expoguadalajara.mx/events/kicks-therapy-gdl/
SUMMARY:KICKS therapy GDL
DESCRIPTION:\n\nKICKS therapy GDL\n\nPlataforma de distribución y networki
 ng más importante de Guadalajara de la cultura streetwear.\nDetalles\n\n\
 n\nCorreo\nexpokickstherapy@gmail.com\nSíguenos\nFacebook\n\n\n\n\n
ATTACH;FMTTYPE=image/jpeg:https://expoguadalajara.mx/wp-content/uploads/20
 25/03/kicks-therapy.jpg
CATEGORIES:Exposiciones
LOCATION:Salón de Eventos\, Av. Mariano Otero #1499 Col. Verde Valle\, Gua
 dalajara\, Jalisco\, México\, México
X-APPLE-STRUCTURED-LOCATION;VALUE=URI;X-ADDRESS=Av. Mariano Otero #1499 Col
 . Verde Valle\, Guadalajara\, Jalisco\, México\, México;X-APPLE-RADIUS=1
 00;X-TITLE=Salón de Eventos:geo:0,0
END:VEVENT
BEGIN:VTIMEZONE
TZID:America/Mexico_City
X-LIC-LOCATION:America/Mexico_City
BEGIN:STANDARD
DTSTART:20240517T110000
TZOFFSETFROM:-0600
TZOFFSETTO:-0600
TZNAME:CST
END:STANDARD
END:VTIMEZONE
END:VCALENDAR