BEGIN:VCALENDAR
VERSION:2.0
PRODID:-//wp-events-plugin.com//6.6.4.4//EN
TZID:America/Mexico_City
X-WR-TIMEZONE:America/Mexico_City
BEGIN:VEVENT
UID:329@expoguadalajara.mx
DTSTART;TZID=America/Mexico_City;VALUE=DATE:20260506
DTEND;TZID=America/Mexico_City;VALUE=DATE:20260510
DTSTAMP:20260326T230930Z
URL:https://expoguadalajara.mx/events/l-congreso-nacional-de-infectologia-
 y-microbiologia-clinica-amimc-2026/
SUMMARY:L Congreso Nacional de Infectología y Microbiología Clínica AMIM
 C 2026
DESCRIPTION:\n\n\n\nL Congreso Nacional de Infectología y Microbiología C
 línica AMIMC 2026\n\nEste congreso es uno de los encuentros más importan
 tes del país en su especialidad\, y reúne cada año a profesionales de l
 a salud\, investigadoras e investigadores\, docentes\, estudiantes y autor
 idades sanitarias con el propósito de compartir conocimientos\, fortalece
 r redes de colaboración y actualizarse en los más recientes avances cien
 tíficos y clínicos relacionados con las enfermedades infecciosas y la mi
 crobiología.\nDetalles\n\n\n\n\nHorario\nPágina Web\nNúmero de contacto
 \n\n\n\n\nPendiente.\namimc2026.mx\n(55) 9000 0901\n\n\n\n\nEmail\nRedes S
 ociales\n\n\n\n\n\namimc.ac@gmail.com\n| FB | IG |\n\n\n\n\n\n\n\n\n\n\n\n
 \n\n
ATTACH;FMTTYPE=image/jpeg:https://expoguadalajara.mx/wp-content/uploads/20
 25/12/Imagen-exterior-AMIMC.png
CATEGORIES:Congresos
LOCATION:Salón Guadalajara\, Av. Mariano Otero 1499\, Verde Valle\, 44550\
 , Guadalajara\, México
X-APPLE-STRUCTURED-LOCATION;VALUE=URI;X-ADDRESS=Av. Mariano Otero 1499\, Ve
 rde Valle\, 44550\, Guadalajara\, México;X-APPLE-RADIUS=100;X-TITLE=Saló
 n Guadalajara:geo:0,0
END:VEVENT
BEGIN:VTIMEZONE
TZID:America/Mexico_City
X-LIC-LOCATION:America/Mexico_City
BEGIN:STANDARD
DTSTART:20250506T000000
TZOFFSETFROM:-0600
TZOFFSETTO:-0600
TZNAME:CST
END:STANDARD
END:VTIMEZONE
END:VCALENDAR