BEGIN:VCALENDAR
VERSION:2.0
PRODID:-//wp-events-plugin.com//6.6.4.4//EN
TZID:America/Mexico_City
X-WR-TIMEZONE:America/Mexico_City
BEGIN:VEVENT
UID:24@expoguadalajara.mx
DTSTART;TZID=America/Mexico_City:20250507T090000
DTEND;TZID=America/Mexico_City:20250509T190000
DTSTAMP:20250326T220709Z
URL:https://expoguadalajara.mx/events/medical-expo-regional/
SUMMARY:MEDICAL EXPO REGIONAL
DESCRIPTION:\nMEDICAL EXPO REGIONAL\nPlataforma líder en el sector de disp
 ositivos médicos promoviendo alianzas y conexiones\, crecimiento empresar
 ial y oportunidades comerciales.\n\nDetalles\n\n\n\nPágina web\nmedical-e
 xpo.com.mx\nCorreo\ninfo@medical-expo.mx\nLink de Registro\nIr al sitio\nA
 dmisión de menores de edad\nEvento para mayores de edad.\n\n\n\nFacebook\
 nIr al perfil\n\nInstagram\nIr al perfil\n X\nIr al perfil\n\nLinkedIn\nI
 r al perfil\n\n\n
ATTACH;FMTTYPE=image/jpeg:https://expoguadalajara.mx/wp-content/uploads/20
 25/03/medical-expo-gdlj.jpg
CATEGORIES:Exposiciones
LOCATION:Salón Guadalajara\, Av. Mariano Otero 1499\, Verde Valle\, 44550\
 , Guadalajara\, México
X-APPLE-STRUCTURED-LOCATION;VALUE=URI;X-ADDRESS=Av. Mariano Otero 1499\, Ve
 rde Valle\, 44550\, Guadalajara\, México;X-APPLE-RADIUS=100;X-TITLE=Saló
 n Guadalajara:geo:0,0
END:VEVENT
BEGIN:VTIMEZONE
TZID:America/Mexico_City
X-LIC-LOCATION:America/Mexico_City
BEGIN:STANDARD
DTSTART:20240507T090000
TZOFFSETFROM:-0600
TZOFFSETTO:-0600
TZNAME:CST
END:STANDARD
END:VTIMEZONE
END:VCALENDAR