BEGIN:VCALENDAR
VERSION:2.0
PRODID:-//wp-events-plugin.com//6.6.4.4//EN
TZID:America/Mexico_City
X-WR-TIMEZONE:America/Mexico_City
BEGIN:VEVENT
UID:173@expoguadalajara.mx
DTSTART;TZID=America/Mexico_City:20250702T100000
DTEND;TZID=America/Mexico_City:20250706T220000
DTSTAMP:20250613T234215Z
URL:https://expoguadalajara.mx/events/mega-outlet-de-belleza-2025/
SUMMARY:Mega Outlet de Belleza 2025
DESCRIPTION:&nbsp\;\n\n\nMega Outlet de Belleza 2025\nExposición de venta 
 de productos y artículos de belleza y accesorios.\nEvento dirigido al con
 sumidor final\, con ofertas especiales.\n\n\n\n\n\n\nSalón\nPagina web:\n
 Facebook:\nInstagram:\n\n\nJalisco A\nMega outlet de belleza\nFB\nIG\n\n\n
 Admisión de menores:\nRegistro:\nCosto de ingreso:\n\n\n\nEvento para tod
 a la familia\n¡Consigue el tuyo aquí!\nEntrada libre con registro\n\n\n\
 n\n
ATTACH;FMTTYPE=image/jpeg:https://expoguadalajara.mx/wp-content/uploads/20
 25/06/Imagen-EVENTO-WEB-EXPO.jpg
CATEGORIES:Exposiciones
LOCATION:Salón Jalisco A\, Av. Mariano Otero #1499 Col. Verde Valle\, Guad
 alajara\, Jalisco\, México.\, México
X-APPLE-STRUCTURED-LOCATION;VALUE=URI;X-ADDRESS=Av. Mariano Otero #1499 Col
 . Verde Valle\, Guadalajara\, Jalisco\, México.\, México;X-APPLE-RADIUS=
 100;X-TITLE=Salón Jalisco A:geo:0,0
END:VEVENT
BEGIN:VTIMEZONE
TZID:America/Mexico_City
X-LIC-LOCATION:America/Mexico_City
BEGIN:STANDARD
DTSTART:20240702T100000
TZOFFSETFROM:-0600
TZOFFSETTO:-0600
TZNAME:CST
END:STANDARD
END:VTIMEZONE
END:VCALENDAR