BEGIN:VCALENDAR
VERSION:2.0
PRODID:-//wp-events-plugin.com//6.6.4.4//EN
TZID:America/Mexico_City
X-WR-TIMEZONE:America/Mexico_City
BEGIN:VEVENT
UID:198@expoguadalajara.mx
DTSTART;TZID=America/Mexico_City:20261006T100000
DTEND;TZID=America/Mexico_City:20261008T180000
DTSTAMP:20260220T172658Z
URL:https://expoguadalajara.mx/events/mexico-hospitality-expo/
SUMMARY:México Hospitality Expo
DESCRIPTION:\n\n\n\nMéxico Hospitality Expo\n\nUn espacio especializado en
  la industria del sector de hoteles\, hospitales\, restaurantes y de cafet
 erías llega a México para promover y satisfacer la demanda hospitalaria 
 de México\, Centro América y el Caribe.\n\nRespaldado por una alianza de
  Expo Guadalajara con Fira Barcelona que\, a través de HOSTELCO impulsar
 án este punto de encuentro.\nDetalles\n\n\n\n\nSitio Web\nNúmero de cont
 acto\nRedes sociales\n\n\nmexicohospitalityexpo.com\n(+52) 33 1865 6427\n|
  IG | FB | IN |\n\n\nAdmisión de menores de edad\nEmail\nCosto de ingres
 o\n\n\nEvento para público especializado\n\ninfo@mhe.mx\nEntrada con regi
 stro\n\n\n\n
ATTACH;FMTTYPE=image/jpeg:https://expoguadalajara.mx/wp-content/uploads/20
 25/12/MHE26-370x250-1.png
CATEGORIES:Exposiciones
LOCATION:Salón Jalisco A y B\, Av. Mariano Otero #1499 Col. Verde Valle\, 
 Guadalajara\, Jalisco\, México.\, México
X-APPLE-STRUCTURED-LOCATION;VALUE=URI;X-ADDRESS=Av. Mariano Otero #1499 Col
 . Verde Valle\, Guadalajara\, Jalisco\, México.\, México;X-APPLE-RADIUS=
 100;X-TITLE=Salón Jalisco A y B:geo:0,0
END:VEVENT
BEGIN:VTIMEZONE
TZID:America/Mexico_City
X-LIC-LOCATION:America/Mexico_City
BEGIN:STANDARD
DTSTART:20251006T100000
TZOFFSETFROM:-0600
TZOFFSETTO:-0600
TZNAME:CST
END:STANDARD
END:VTIMEZONE
END:VCALENDAR