BEGIN:VCALENDAR
VERSION:2.0
PRODID:-//wp-events-plugin.com//6.6.4.4//EN
TZID:America/Mexico_City
X-WR-TIMEZONE:America/Mexico_City
BEGIN:VEVENT
UID:385@expoguadalajara.mx
DTSTART;TZID=America/Mexico_City;VALUE=DATE:20261021
DTEND;TZID=America/Mexico_City;VALUE=DATE:20261023
DTSTAMP:20260310T173953Z
URL:https://expoguadalajara.mx/events/mexico-talent-rh/
SUMMARY:Mexico Talent RH
DESCRIPTION:\n\n\n\nMEXICO TALENT RH\n\nEl evento de networking en RH más 
 grande de México.\nMás de 14 conferencias sobre innovación y tendencias
  en gestión de talento.\n🚀 Aprende de expertos\n💡 Descubre estrateg
 ias clave para potenciar el capital humano en tu organización\n🌍 Retos
  de negocios globales y sostenibilidad organizacional\n📊 Evolución de 
 las formas de trabajo y el análisis de datos\n🔄 Tendencias globales y 
 disruptivas en la gestión del talento\n⭐ Diversidad\, equidad e inclusi
 ón: Claves para el éxito\n🤖 Transformación digital\, avances biotecn
 ológicos e IA\n🏆 Wellbeing y experiencia del empleado\n📈 Happiness\
 , desarrollo humano y crecimiento personal\nDetalles\n\n\n\n\nHorario\nPá
 gina Web\nNúmero de contacto\n\n\n\n\nHorario pendiente.\narioac.com\n(33
 ) 38-11-2221\n\n\n\n\nEmail\nRedes Sociales\n\n\n\n\n\ncontacto@arioac.com
 \n| FB | IG |\n\n\n\n\n\n\n\n\n\n\n\n\n\n
ATTACH;FMTTYPE=image/jpeg:https://expoguadalajara.mx/wp-content/uploads/20
 26/02/Congreso_370-x-250-PX.png
CATEGORIES:Congresos
LOCATION:Salón Guadalajara\, Av. Mariano Otero 1499\, Verde Valle\, 44550\
 , Guadalajara\, México
X-APPLE-STRUCTURED-LOCATION;VALUE=URI;X-ADDRESS=Av. Mariano Otero 1499\, Ve
 rde Valle\, 44550\, Guadalajara\, México;X-APPLE-RADIUS=100;X-TITLE=Saló
 n Guadalajara:geo:0,0
END:VEVENT
BEGIN:VTIMEZONE
TZID:America/Mexico_City
X-LIC-LOCATION:America/Mexico_City
BEGIN:STANDARD
DTSTART:20251021T000000
TZOFFSETFROM:-0600
TZOFFSETTO:-0600
TZNAME:CST
END:STANDARD
END:VTIMEZONE
END:VCALENDAR