BEGIN:VCALENDAR
VERSION:2.0
PRODID:-//wp-events-plugin.com//6.6.4.4//EN
TZID:America/Mexico_City
X-WR-TIMEZONE:America/Mexico_City
BEGIN:VEVENT
UID:368@expoguadalajara.mx
DTSTART;TZID=America/Mexico_City:20260827T100000
DTEND;TZID=America/Mexico_City:20260828T200000
DTSTAMP:20260216T234502Z
URL:https://expoguadalajara.mx/events/moneyverse/
SUMMARY:Moneyverse
DESCRIPTION:\n\n\n\nMONEYVERSE\n\nEl punto de encuentro de empresas\, empre
 ndedores\, bancos\, fintechs\, inversionistas\, cripto\, starups\, educaci
 ón financiera\, y tecnología que mueve el dinero del futuro.\nDetalles\n
 \n\n\n\nSitio Web\nHorario\nRedes sociales\nCosto de ingreso\n\n\nmoneyver
 se.com.mx\nPor confirmar\n| IG | FB | IN |\nDesde $8\,000 por persona.\n\
 n\nEmail\nAdmisión a menores de edad\nLink de Registro\n\n\n\nrosalinda@c
 idkapital.com\nEvento para mayores de edad\nmoneyverse/registro.com\n\n\n\
 n\n\n\n\n\n\n\n
ATTACH;FMTTYPE=image/jpeg:https://expoguadalajara.mx/wp-content/uploads/20
 26/02/Banners-Moneyverse-250x370px.jpg
CATEGORIES:Exposiciones
LOCATION:Salones regionales\, Av. Mariano Otero #1499 Colonia Verde Valle -
  Guadalajara\, Jalisco Méx\, JAL\, Jalisco\, 44550\, Jalisco\, México
X-APPLE-STRUCTURED-LOCATION;VALUE=URI;X-ADDRESS=Av. Mariano Otero #1499 Col
 onia Verde Valle - Guadalajara\, Jalisco Méx\, JAL\, Jalisco\, 44550\, Ja
 lisco\, México;X-APPLE-RADIUS=100;X-TITLE=Salones regionales:geo:0,0
END:VEVENT
BEGIN:VTIMEZONE
TZID:America/Mexico_City
X-LIC-LOCATION:America/Mexico_City
BEGIN:STANDARD
DTSTART:20250827T100000
TZOFFSETFROM:-0600
TZOFFSETTO:-0600
TZNAME:CST
END:STANDARD
END:VTIMEZONE
END:VCALENDAR