BEGIN:VCALENDAR
VERSION:2.0
PRODID:-//wp-events-plugin.com//6.6.4.4//EN
TZID:America/Mexico_City
X-WR-TIMEZONE:America/Mexico_City
BEGIN:VEVENT
UID:223@expoguadalajara.mx
DTSTART;TZID=America/Mexico_City:20260729T113000
DTEND;TZID=America/Mexico_City:20260731T190000
DTSTAMP:20260310T180338Z
URL:https://expoguadalajara.mx/events/publicitaria-imprexpo-4/
SUMMARY:Publicitaria Imprexpo
DESCRIPTION:\n\n\n\nPUBLICITARIA IMPREXPO\n\nIMPREXPO es la exhibición en 
 donde encontraras las últimas tendencias en equipos e insumos para las ar
 tes gráficas.\nDetalles\n\n\n\n\nHorario\nSitio Web\nNúmero de Contacto\
 nLink de registro\n\n\n\n29 de Julio: 12:00pm a 7:30 pm\n30 de Julio: 11:3
 0am a 7:30 pm.\n31 de Julio: 11:30am a 7:00 pm.\nimprexpo.com\n52 33 10 57
  45 32)\n(52 33 10 57 45 33)\nimprexpo/registro.com\n\n\n\nEmail\nRedes So
 ciales\nAdmisión a menores de edad\n\n\n\n\ninformes@publicitaria.mx\n\n|
  FB | IG |\nEvento para mayores de edad.\n\n\n\n\n\n\n
ATTACH;FMTTYPE=image/jpeg:https://expoguadalajara.mx/wp-content/uploads/20
 25/12/Banners-IMPREXPO-370x250px.jpg
CATEGORIES:Exposiciones
LOCATION:Salón Jalisco C\, Av. Mariano Otero #1499 Col. Verde Valle\, Guad
 alajara\, Jalisco\, México\, México
X-APPLE-STRUCTURED-LOCATION;VALUE=URI;X-ADDRESS=Av. Mariano Otero #1499 Col
 . Verde Valle\, Guadalajara\, Jalisco\, México\, México;X-APPLE-RADIUS=1
 00;X-TITLE=Salón Jalisco C:geo:0,0
END:VEVENT
BEGIN:VTIMEZONE
TZID:America/Mexico_City
X-LIC-LOCATION:America/Mexico_City
BEGIN:STANDARD
DTSTART:20250729T113000
TZOFFSETFROM:-0600
TZOFFSETTO:-0600
TZNAME:CST
END:STANDARD
END:VTIMEZONE
END:VCALENDAR